{"text_format":"3","workbook":"xlsx","n_sheets":14,"sheets":["Inserimento","Gennaio","Febbraio","Marzo","Aprile","Maggio","Giugno","Luglio","Agosto","Settembre","Ottobre","Novembre","Dicembre","2021"],"not_rendered":{"charts":1,"images":7,"macros":1},"read":"whole","date_system":"1900"}

{"sheet":"Inserimento","index":0,"n_rows":20,"n_cols":26,"rows_kept":20,"merged":[[4,9,4,10],[5,0,5,2],[5,4,5,6]]}
[{"$f":"\"Oggi è \"& TEXT($B$1,\"gggg\")","v":"Oggi è domenica"},{"$f":"TODAY()","v":"2021-01-31"},{"$nulls":21},"Entrate","Tipologie","Uscite"]
[{"$nulls":23},"Stipendio B",null,"Affitto"]
[]
[]
[]
["ENTRATE",{"$nulls":3},"USCITE",{"$nulls":4},"entrate","uscite",null,"Vai a"]
["Data","Tipo","Importo",null,"Data","Tipo","Importo",{"$nulls":5},"Gennaio"]
[{"$nulls":12},"Febbraio"]
[{"$nulls":12},"Marzo"]
[{"$nulls":12},"Aprile"]
[{"$nulls":12},"Maggio"]
[{"$nulls":12},"Giugno"]
[{"$nulls":12},"Luglio"]
[{"$nulls":12},"Agosto"]
[{"$nulls":12},"Settembre"]
[{"$nulls":12},"Ottobre"]
[{"$nulls":12},"Novembre"]
[{"$nulls":12},"Dicembre"]
[]
[{"$nulls":12},"Anno 2021"]

{"sheet":"Gennaio","index":1,"n_rows":21,"n_cols":15,"rows_kept":21,"merged":[[0,0,0,3]]}
[{"$f":"MID(CELL(\"nomefile\",A2),SEARCH(\"]\",CELL(\"nomefile\",A2))+1,10)","v":"Gennaio"}]
["Data","Entrate","Uscite","Importo",{"$nulls":3},"totale entrate","Totale uscite"]
[{"$nulls":7},{"$f":"SUMIF($B$2:$B$1000,\"<>\"& $G$1,$D$2:$D$1000)","v":0},{"$f":"SUMIF($C$2:$C$1000,\"<>\"& $G$1,$D$2:$D$1000)","v":0}]
[]
[]
[]
[{"$nulls":14},"Vai a "]
[{"$nulls":14},"Gennaio"]
[{"$nulls":14},"Febbraio"]
[{"$nulls":14},"Marzo"]
[{"$nulls":14},"Aprile"]
[{"$nulls":14},"Maggio"]
[{"$nulls":14},"Giugno"]
[{"$nulls":14},"Luglio"]
[{"$nulls":14},"Agosto"]
[{"$nulls":14},"Settembre"]
[{"$nulls":14},"Ottobre"]
[{"$nulls":14},"Novembre"]
[{"$nulls":14},"Dicembre"]
[]
[{"$nulls":14},"Anno 2021"]

{"sheet":"Febbraio","index":2,"n_rows":20,"n_cols":14,"rows_kept":20,"merged":[[0,0,0,3]]}
[{"$f":"MID(CELL(\"nomefile\",A2),SEARCH(\"]\",CELL(\"nomefile\",A2))+1,10)","v":"Febbraio"}]
["Data","Entrate","Uscite","Importo",{"$nulls":3},"totale entrate","Totale uscite"]
[{"$nulls":7},{"$f":"SUMIF($B$2:$B$1000,\"<>\"& $G$1,$D$2:$D$1000)","v":0},{"$f":"SUMIF($C$2:$C$1000,\"<>\"& $G$1,$D$2:$D$1000)","v":0}]
[]
[]
[{"$nulls":13},"Vai a "]
[{"$nulls":13},"Gennaio"]
[{"$nulls":13},"Febbraio"]
[{"$nulls":13},"Marzo"]
[{"$nulls":13},"Aprile"]
[{"$nulls":13},"Maggio"]
[{"$nulls":13},"Giugno"]
[{"$nulls":13},"Luglio"]
[{"$nulls":13},"Agosto"]
[{"$nulls":13},"Settembre"]
[{"$nulls":13},"Ottobre"]
[{"$nulls":13},"Novembre"]
[{"$nulls":13},"Dicembre"]
[]
[{"$nulls":13},"Anno 2021"]

{"sheet":"Marzo","index":3,"n_rows":20,"n_cols":14,"rows_kept":20,"merged":[[0,0,0,3]]}
[{"$f":"MID(CELL(\"nomefile\",A2),SEARCH(\"]\",CELL(\"nomefile\",A2))+1,10)","v":"Marzo"}]
["Data","Entrate","Uscite","Importo",{"$nulls":3},"totale entrate","Totale uscite"]
[{"$nulls":7},{"$f":"SUMIF($B$2:$B$1000,\"<>\"& $G$1,$D$2:$D$1000)","v":0},{"$f":"SUMIF($C$2:$C$1000,\"<>\"& $G$1,$D$2:$D$1000)","v":0}]
[]
[]
[{"$nulls":13},"Vai a "]
[{"$nulls":13},"Gennaio"]
[{"$nulls":13},"Febbraio"]
[{"$nulls":13},"Marzo"]
[{"$nulls":13},"Aprile"]
[{"$nulls":13},"Maggio"]
[{"$nulls":13},"Giugno"]
[{"$nulls":13},"Luglio"]
[{"$nulls":13},"Agosto"]
[{"$nulls":13},"Settembre"]
[{"$nulls":13},"Ottobre"]
[{"$nulls":13},"Novembre"]
[{"$nulls":13},"Dicembre"]
[]
[{"$nulls":13},"Anno 2021"]

{"sheet":"Aprile","index":4,"n_rows":20,"n_cols":14,"rows_kept":20,"merged":[[0,0,0,3]]}
[{"$f":"MID(CELL(\"nomefile\",A2),SEARCH(\"]\",CELL(\"nomefile\",A2))+1,10)","v":"Aprile"}]
["Data","Entrate","Uscite","Importo",{"$nulls":3},"totale entrate","Totale uscite"]
[{"$nulls":7},{"$f":"SUMIF($B$2:$B$1000,\"<>\"& $G$1,$D$2:$D$1000)","v":0},{"$f":"SUMIF($C$2:$C$1000,\"<>\"& $G$1,$D$2:$D$1000)","v":0}]
[]
[]
[{"$nulls":13},"Vai a "]
[{"$nulls":13},"Gennaio"]
[{"$nulls":13},"Febbraio"]
[{"$nulls":13},"Marzo"]
[{"$nulls":13},"Aprile"]
[{"$nulls":13},"Maggio"]
[{"$nulls":13},"Giugno"]
[{"$nulls":13},"Luglio"]
[{"$nulls":13},"Agosto"]
[{"$nulls":13},"Settembre"]
[{"$nulls":13},"Ottobre"]
[{"$nulls":13},"Novembre"]
[{"$nulls":13},"Dicembre"]
[]
[{"$nulls":13},"Anno 2021"]

{"sheet":"Maggio","index":5,"n_rows":20,"n_cols":14,"rows_kept":20,"merged":[[0,0,0,3]]}
[{"$f":"MID(CELL(\"nomefile\",A2),SEARCH(\"]\",CELL(\"nomefile\",A2))+1,10)","v":"Maggio"}]
["Data","Entrate","Uscite","Importo",{"$nulls":3},"totale entrate","Totale uscite"]
[{"$nulls":7},{"$f":"SUMIF($B$2:$B$1000,\"<>\"& $G$1,$D$2:$D$1000)","v":0},{"$f":"SUMIF($C$2:$C$1000,\"<>\"& $G$1,$D$2:$D$1000)","v":0}]
[]
[]
[{"$nulls":13},"Vai a "]
[{"$nulls":13},"Gennaio"]
[{"$nulls":13},"Febbraio"]
[{"$nulls":13},"Marzo"]
[{"$nulls":13},"Aprile"]
[{"$nulls":13},"Maggio"]
[{"$nulls":13},"Giugno"]
[{"$nulls":13},"Luglio"]
[{"$nulls":13},"Agosto"]
[{"$nulls":13},"Settembre"]
[{"$nulls":13},"Ottobre"]
[{"$nulls":13},"Novembre"]
[{"$nulls":13},"Dicembre"]
[]
[{"$nulls":13},"Anno 2021"]

{"sheet":"Giugno","index":6,"n_rows":20,"n_cols":14,"rows_kept":20,"merged":[[0,0,0,3]]}
[{"$f":"MID(CELL(\"nomefile\",A2),SEARCH(\"]\",CELL(\"nomefile\",A2))+1,10)","v":"Giugno"}]
["Data","Entrate","Uscite","Importo",{"$nulls":3},"totale entrate","Totale uscite"]
[{"$nulls":7},{"$f":"SUMIF($B$2:$B$1000,\"<>\"& $G$1,$D$2:$D$1000)","v":0},{"$f":"SUMIF($C$2:$C$1000,\"<>\"& $G$1,$D$2:$D$1000)","v":0}]
[]
[]
[{"$nulls":13},"Vai a "]
[{"$nulls":13},"Gennaio"]
[{"$nulls":13},"Febbraio"]
[{"$nulls":13},"Marzo"]
[{"$nulls":13},"Aprile"]
[{"$nulls":13},"Maggio"]
[{"$nulls":13},"Giugno"]
[{"$nulls":13},"Luglio"]
[{"$nulls":13},"Agosto"]
[{"$nulls":13},"Settembre"]
[{"$nulls":13},"Ottobre"]
[{"$nulls":13},"Novembre"]
[{"$nulls":13},"Dicembre"]
[]
[{"$nulls":13},"Anno 2021"]

{"sheet":"Luglio","index":7,"n_rows":20,"n_cols":14,"rows_kept":20,"merged":[[0,0,0,3]]}
[{"$f":"MID(CELL(\"nomefile\",A2),SEARCH(\"]\",CELL(\"nomefile\",A2))+1,10)","v":"Luglio"}]
["Data","Entrate","Uscite","Importo",{"$nulls":3},"totale entrate","Totale uscite"]
[{"$nulls":7},{"$f":"SUMIF($B$2:$B$1000,\"<>\"& $G$1,$D$2:$D$1000)","v":0},{"$f":"SUMIF($C$2:$C$1000,\"<>\"& $G$1,$D$2:$D$1000)","v":0}]
[]
[]
[{"$nulls":13},"Vai a "]
[{"$nulls":13},"Gennaio"]
[{"$nulls":13},"Febbraio"]
[{"$nulls":13},"Marzo"]
[{"$nulls":13},"Aprile"]
[{"$nulls":13},"Maggio"]
[{"$nulls":13},"Giugno"]
[{"$nulls":13},"Luglio"]
[{"$nulls":13},"Agosto"]
[{"$nulls":13},"Settembre"]
[{"$nulls":13},"Ottobre"]
[{"$nulls":13},"Novembre"]
[{"$nulls":13},"Dicembre"]
[]
[{"$nulls":13},"Anno 2021"]

{"sheet":"Agosto","index":8,"n_rows":20,"n_cols":14,"rows_kept":20,"merged":[[0,0,0,3]]}
[{"$f":"MID(CELL(\"nomefile\",A2),SEARCH(\"]\",CELL(\"nomefile\",A2))+1,10)","v":"Agosto"}]
["Data","Entrate","Uscite","Importo",{"$nulls":3},"totale entrate","Totale uscite"]
[{"$nulls":7},{"$f":"SUMIF($B$2:$B$1000,\"<>\"& $G$1,$D$2:$D$1000)","v":0},{"$f":"SUMIF($C$2:$C$1000,\"<>\"& $G$1,$D$2:$D$1000)","v":0}]
[]
[]
[{"$nulls":13},"Vai a "]
[{"$nulls":13},"Gennaio"]
[{"$nulls":13},"Febbraio"]
[{"$nulls":13},"Marzo"]
[{"$nulls":13},"Aprile"]
[{"$nulls":13},"Maggio"]
[{"$nulls":13},"Giugno"]
[{"$nulls":13},"Luglio"]
[{"$nulls":13},"Agosto"]
[{"$nulls":13},"Settembre"]
[{"$nulls":13},"Ottobre"]
[{"$nulls":13},"Novembre"]
[{"$nulls":13},"Dicembre"]
[]
[{"$nulls":13},"Anno 2021"]

{"sheet":"Settembre","index":9,"n_rows":20,"n_cols":14,"rows_kept":20,"merged":[[0,0,0,3]]}
[{"$f":"MID(CELL(\"nomefile\",A2),SEARCH(\"]\",CELL(\"nomefile\",A2))+1,10)","v":"Settembre"}]
["Data","Entrate","Uscite","Importo",{"$nulls":3},"totale entrate","Totale uscite"]
[{"$nulls":7},{"$f":"SUMIF($B$2:$B$1000,\"<>\"& $G$1,$D$2:$D$1000)","v":0},{"$f":"SUMIF($C$2:$C$1000,\"<>\"& $G$1,$D$2:$D$1000)","v":0}]
[]
[]
[{"$nulls":13},"Vai a "]
[{"$nulls":13},"Gennaio"]
[{"$nulls":13},"Febbraio"]
[{"$nulls":13},"Marzo"]
[{"$nulls":13},"Aprile"]
[{"$nulls":13},"Maggio"]
[{"$nulls":13},"Giugno"]
[{"$nulls":13},"Luglio"]
[{"$nulls":13},"Agosto"]
[{"$nulls":13},"Settembre"]
[{"$nulls":13},"Ottobre"]
[{"$nulls":13},"Novembre"]
[{"$nulls":13},"Dicembre"]
[]
[{"$nulls":13},"Anno 2021"]

{"sheet":"Ottobre","index":10,"n_rows":20,"n_cols":14,"rows_kept":20,"merged":[[0,0,0,3]]}
[{"$f":"MID(CELL(\"nomefile\",A2),SEARCH(\"]\",CELL(\"nomefile\",A2))+1,10)","v":"Ottobre"}]
["Data","Entrate","Uscite","Importo",{"$nulls":3},"totale entrate","Totale uscite"]
[{"$nulls":7},{"$f":"SUMIF($B$2:$B$1000,\"<>\"& $G$1,$D$2:$D$1000)","v":0},{"$f":"SUMIF($C$2:$C$1000,\"<>\"& $G$1,$D$2:$D$1000)","v":0}]
[]
[]
[{"$nulls":13},"Vai a "]
[{"$nulls":13},"Gennaio"]
[{"$nulls":13},"Febbraio"]
[{"$nulls":13},"Marzo"]
[{"$nulls":13},"Aprile"]
[{"$nulls":13},"Maggio"]
[{"$nulls":13},"Giugno"]
[{"$nulls":13},"Luglio"]
[{"$nulls":13},"Agosto"]
[{"$nulls":13},"Settembre"]
[{"$nulls":13},"Ottobre"]
[{"$nulls":13},"Novembre"]
[{"$nulls":13},"Dicembre"]
[]
[{"$nulls":13},"Anno 2021"]

{"sheet":"Novembre","index":11,"n_rows":20,"n_cols":14,"rows_kept":20,"merged":[[0,0,0,3]]}
[{"$f":"MID(CELL(\"nomefile\",A2),SEARCH(\"]\",CELL(\"nomefile\",A2))+1,10)","v":"Novembre"}]
["Data","Entrate","Uscite","Importo",{"$nulls":3},"totale entrate","Totale uscite"]
[{"$nulls":7},{"$f":"SUMIF($B$2:$B$1000,\"<>\"& $G$1,$D$2:$D$1000)","v":0},{"$f":"SUMIF($C$2:$C$1000,\"<>\"& $G$1,$D$2:$D$1000)","v":0}]
[]
[]
[{"$nulls":13},"Vai a "]
[{"$nulls":13},"Gennaio"]
[{"$nulls":13},"Febbraio"]
[{"$nulls":13},"Marzo"]
[{"$nulls":13},"Aprile"]
[{"$nulls":13},"Maggio"]
[{"$nulls":13},"Giugno"]
[{"$nulls":13},"Luglio"]
[{"$nulls":13},"Agosto"]
[{"$nulls":13},"Settembre"]
[{"$nulls":13},"Ottobre"]
[{"$nulls":13},"Novembre"]
[{"$nulls":13},"Dicembre"]
[]
[{"$nulls":13},"Anno 2021"]

{"sheet":"Dicembre","index":12,"n_rows":20,"n_cols":14,"rows_kept":20,"merged":[[0,0,0,3]]}
[{"$f":"MID(CELL(\"nomefile\",A2),SEARCH(\"]\",CELL(\"nomefile\",A2))+1,10)","v":"Dicembre"}]
["Data","Entrate","Uscite","Importo",{"$nulls":3},"totale entrate","Totale uscite"]
[{"$nulls":7},{"$f":"SUMIF($B$2:$B$1000,\"<>\"& $G$1,$D$2:$D$1000)","v":0},{"$f":"SUMIF($C$2:$C$1000,\"<>\"& $G$1,$D$2:$D$1000)","v":0}]
[]
[]
[{"$nulls":13},"Vai a "]
[{"$nulls":13},"Gennaio"]
[{"$nulls":13},"Febbraio"]
[{"$nulls":13},"Marzo"]
[{"$nulls":13},"Aprile"]
[{"$nulls":13},"Maggio"]
[{"$nulls":13},"Giugno"]
[{"$nulls":13},"Luglio"]
[{"$nulls":13},"Agosto"]
[{"$nulls":13},"Settembre"]
[{"$nulls":13},"Ottobre"]
[{"$nulls":13},"Novembre"]
[{"$nulls":13},"Dicembre"]
[]
[{"$nulls":13},"Anno 2021"]

{"sheet":"2021","index":13,"n_rows":33,"n_cols":19,"rows_kept":33,"merged":[[0,10,1,13]]}
[{"$nulls":10},"Anno 2021"]
[]
[]
[{"$nulls":10},"totale entrate","Totale uscite",null,"residuo"]
[{"$nulls":10},{"$f":"Agosto!$H$3","v":0}]
[{"$nulls":10},{"$f":"Aprile!$H$3","v":0}]
[{"$nulls":10},{"$f":"Dicembre!$H$3","v":0}]
[{"$nulls":10},{"$f":"Febbraio!$H$3","v":0}]
[{"$nulls":10},{"$f":"Gennaio!$H$3","v":0}]
[{"$nulls":10},{"$f":"Giugno!$H$3","v":0}]
[{"$nulls":10},{"$f":"Luglio!$H$3","v":0}]
[{"$nulls":10},{"$f":"Maggio!$H$3","v":0}]
[{"$nulls":10},{"$f":"Marzo!$H$3","v":0}]
[{"$nulls":10},{"$f":"Novembre!$H$3","v":0}]
[{"$nulls":10},{"$f":"Ottobre!$H$3","v":0}]
[{"$nulls":10},{"$f":"Settembre!$H$3","v":0}]
[{"$nulls":10},{"$f":"SUM(K5:K16)","v":0},{"$f":"Agosto!$I$3","v":0},null,{"$f":"K17-L17","v":0},{"$nulls":4},"Vai a "]
[{"$nulls":10},{"$f":"Aprile!$H$3","v":0},{"$f":"Aprile!$I$3","v":0},null,{"$f":"K18-L18","v":0},{"$nulls":4},"Gennaio"]
[{"$nulls":10},{"$f":"Dicembre!$H$3","v":0},{"$f":"Dicembre!$I$3","v":0},null,0,{"$nulls":4},"Febbraio"]
[{"$nulls":10},{"$f":"Febbraio!$H$3","v":0},{"$f":"Febbraio!$I$3","v":0},null,0,{"$nulls":4},"Marzo"]
[{"$nulls":10},{"$f":"Gennaio!$H$3","v":0},{"$f":"Gennaio!$I$3","v":0},null,0,{"$nulls":4},"Aprile"]
[{"$nulls":10},{"$f":"Giugno!$H$3","v":0},{"$f":"Giugno!$I$3","v":0},null,0,{"$nulls":4},"Maggio"]
[{"$nulls":10},{"$f":"Luglio!$H$3","v":0},{"$f":"Luglio!$I$3","v":0},null,0,{"$nulls":4},"Giugno"]
[{"$nulls":10},{"$f":"Maggio!$H$3","v":0},{"$f":"Maggio!$I$3","v":0},null,0,{"$nulls":4},"Luglio"]
[{"$nulls":10},{"$f":"Marzo!$H$3","v":0},{"$f":"Marzo!$I$3","v":0},null,0,{"$nulls":4},"Agosto"]
[{"$nulls":10},{"$f":"Novembre!$H$3","v":0},{"$f":"Novembre!$I$3","v":0},null,0,{"$nulls":4},"Settembre"]
[{"$nulls":10},{"$f":"Ottobre!$H$3","v":0},{"$f":"Ottobre!$I$3","v":0},null,0,{"$nulls":4},"Ottobre"]
[{"$nulls":10},{"$f":"Settembre!$H$3","v":0},{"$f":"Settembre!$I$3","v":0},null,0,{"$nulls":4},"Novembre"]
[{"$nulls":10},{"$f":"SUM(K17:K28)","v":0},{"$f":"SUM(L17:L28)","v":0},null,0,{"$nulls":4},"Dicembre"]
[]
[{"$nulls":18},"Anno 2021"]
[{"$nulls":10},"Entrate","Uscite",null,"Residuo"]
[{"$nulls":10},{"$f":"SUM(K17:K29)","v":0},{"$f":"SUM(L17:L29)","v":0},null,{"$f":"SUM(N17:N30)","v":0}]