{"text_format":"3","workbook":"xlsx","n_sheets":16,"sheets":["LEGGIMI","Esempio Gennaio","Gennaio","Febbraio","Marzo","Aprile","Maggio","Giugno","Luglio","Agosto","Settembre","Ottobre","Novembre","Dicembre","Riassunto","Grafici"],"not_rendered":{"charts":15,"macros":1},"read":"whole","date_system":"1900"}

{"sheet":"LEGGIMI","index":0,"n_rows":22,"n_cols":3,"rows_kept":22,"merged":[[0,2,1,2],[19,2,20,2],[21,2,22,2]]}
[null,null,"QUESTO FILE UTILIZZA IL PROGRAMMA DI EXCEL"]
[]
[null,null,"Semplice file per il conteggio delle ore di viaggio giorno per giorno, utilizzate"]
[null,null,"per recarsi al lavoro, gli eventuali pedaggi autostradali, i pieni di carburante ed i"]
[null,null,"punti rifornimento (Esso, Tamoil ecc.), inserire il nome del distributore sotto PUNTI,"]
[null,null,"solo nel foglio di Gennaio, negli altri fogli, sono copiati in automatico."]
[null,null,"N.B. I fogli di lavoro sono protetti da scrittura, per evitare cancellazioni accidentali e/o"]
[null,null,"errori di battitura, (celle contenenti formule; se cancellate, il programma non funzionerebbe più)."]
[null,null,"Le celle utilizzate per i dati, sono accessibili per l'inserimento e/o la modifica degli stessi."]
[null,null,"L'inserimento dati su (ORARIO: Partenza e Arrivo) sono da immettere come funzione orario."]
[null,null,"Ciò è possibile inserirli utilizzando il comando sulla barra degli strumenti, dalla voce Inserisci - Funzione"]
[null,null,"oppure inserire direttamente nella cella, l'orario desiderato (es: 7:0 - 7:45 - 8:20 - 17:45 - 18:0 ecc)"]
[null,null,"Nel foglio \"Esempio Gennaio\", è possibile visualizzare la formula immessa, in modo"]
[null,null,"da visionarne il formato e i risultati. È anche possibile, con il comando copia/incolla, ricopiare"]
[null,null,"i dati in un'altra cella, modificando solo l'orario (es. ORARIO 7:00 in ORARIO 7:30 ecc.)"]
[null,null,"I risultati verranno calcolati (arrotondati) dalle formule contenute nelle celle."]
[null,null,"I dati dei Km. percorsi sono numerici (50÷73÷85÷100 ecc.), quelli che Voi percorrete giornalmente."]
[null,null,"Spero Vi torni utile una serie di fogli di lavoro gestiti così, segnando le ore di"]
[null,null,"viaggio, i pieni di carburante, i pedaggi ecc. che vengono effettuati durante l'anno."]
[null,null,"Un cordiale saluto e Buon Lavoro - Program By - Maurizio Vignazzi."]
[]
[null,null,"E-mail: maurivi53@libero.it"]

{"sheet":"Esempio Gennaio","index":1,"n_rows":39,"n_cols":17,"rows_kept":39,"merged":[[0,0,0,1],[0,2,0,6],[0,7,0,11],[0,12,0,16],[1,0,2,1],[1,2,2,2],[1,3,2,3],[1,4,2,4],[1,5,2,5],[1,6,2,6],[1,7,2,7],[1,8,2,8],[1,9,2,9],[1,10,2,10],[1,11,2,11],[1,12,2,12],[1,13,1,14],[1,15,1,16],[34,0,37,1],[34,2,34,5],[34,6,35,6],[34,7,34,10],[34,11,35,11],[34,12,35,12],[34,13,35,13],[34,14,35,14],[34,15,37,15],[34,16,37,16],[35,2,35,5],[35,7,35,10],[36,2,36,5],[36,6,37,6],[36,7,36,10],[36,11,37,11],[36,12,37,12],[36,13,37,14],[37,2,37,5],[37,7,37,10]]}
["Foglio di Esempio",null,"A N D A T A",{"$nulls":4},"R I T O R N O"]
["GIORNO",null,"Orario Partenza","Km. Percorsi","Orario Arrivo","Tempo Ora","Velocità Km/Orari","Orario Partenza","Km. Percorsi","Orario Arrivo","Tempo Ora","Velocità Km/Orari","NOTE VARIE","C O S T I",null,"P U N T I"]
[{"$nulls":13},"Pedaggio","Carburante","Tamoil","Esso"]
[1,"Mercole",{"$nulls":3},{"$f":"IF(E4<C4,0,E4-C4)","v":"00:00:00"},{"$f":"IF(C4=0,0,IF(D4=0,0,IF(E4=0,0,(D4/F4)/24)))","v":0},{"$nulls":3},{"$f":"IF(J4<H4,0,J4-H4)","v":"00:00:00"},{"$f":"IF(H4=0,0,IF(I4=0,0,IF(J4=0,0,(I4/K4)/24)))","v":0}]
[2,"Giovedì",{"$nulls":3},{"$f":"IF(E5<C5,0,E5-C5)","v":"00:00:00"},0,{"$nulls":3},{"$f":"IF(J5<H5,0,J5-H5)","v":"00:00:00"},0]
[3,"Venerdì","07:00:00",35,"08:00:00","01:00:00",{"v":35.000000000000036,"d":"35"},"17:00:00",35,"17:50:00","00:50:00",{"v":42.00000000000015,"d":"42"}]
[4,"Sabato",{"$nulls":3},"00:00:00",0,{"$nulls":3},"00:00:00",0]
[5,"Domeni",{"$nulls":3},"00:00:00",0,{"$nulls":3},"00:00:00",0]
[6,"Lunedì",{"$nulls":3},"00:00:00",0,{"$nulls":3},"00:00:00",0]
[7,"Martedì",{"$nulls":3},"00:00:00",0,"17:30:00",35,"18:28:00","00:58:00",{"v":36.206896551724164,"d":"36"}]
[8,"Mercole",{"$nulls":3},"00:00:00",0,{"$nulls":3},"00:00:00",0]
[9,"Giovedì",{"$nulls":3},"00:00:00",0,{"$nulls":3},"00:00:00",0]
[10,"Venerdì",{"$nulls":3},"00:00:00",0,{"$nulls":3},"00:00:00",0]
[11,"Sabato",{"$nulls":3},"00:00:00",0,{"$nulls":3},"00:00:00",0]
[12,"Domeni",{"$nulls":3},"00:00:00",0,{"$nulls":3},"00:00:00",0]
[13,"Lunedì",{"$nulls":3},"00:00:00",0,{"$nulls":3},"00:00:00",0]
[14,"Martedì",{"$nulls":3},"00:00:00",0,"17:30:00",null,null,"00:00:00",0]
[15,"Mercole",{"$nulls":3},"00:00:00",0,{"$nulls":3},"00:00:00",0]
[16,"Giovedì",{"$nulls":3},"00:00:00",0,{"$nulls":3},"00:00:00",0]
[17,"Venerdì",{"$nulls":3},"00:00:00",0,{"$nulls":3},"00:00:00",0]
[18,"Sabato",{"$nulls":3},"00:00:00",0,{"$nulls":3},"00:00:00",0]
[19,"Domeni",{"$nulls":3},"00:00:00",0,{"$nulls":3},"00:00:00",0]
[20,"Lunedì",{"$nulls":3},"00:00:00",0,{"$nulls":3},"00:00:00",0]
[21,"Martedì",{"$nulls":3},"00:00:00",0,{"$nulls":3},"00:00:00",0]
[22,"Mercole","08:00:00",40,"08:40:00","00:40:00",{"v":59.99999999999997,"d":"60"},"18:30:00",40,"19:10:00","00:40:00",{"v":59.99999999999997,"d":"60"},"Autostrada A9",{"v":5,"d":"€5.00"},{"v":35,"d":"€35.00"},null,15]
[23,"Giovedì",{"$nulls":3},"00:00:00",0,{"$nulls":3},"00:00:00",0]
[24,"Venerdì",{"$nulls":3},"00:00:00",0,{"$nulls":3},"00:00:00",0]
[25,"Sabato",{"$nulls":3},"00:00:00",0,{"$nulls":3},"00:00:00",0]
[26,"Domeni",{"$nulls":3},"00:00:00",0,{"$nulls":3},"00:00:00",0]
[27,"Lunedì",{"$nulls":3},"00:00:00",0,{"$nulls":3},"00:00:00",0]
[28,"Martedì",{"$nulls":3},"00:00:00",0,{"$nulls":3},"00:00:00",0]
[29,"Mercole",{"$nulls":3},"00:00:00",0,{"$nulls":3},"00:00:00",0]
[30,"Giovedì",{"$nulls":3},"00:00:00",0,{"$nulls":3},"00:00:00",0]
[31,"Venerdì",{"$nulls":3},"00:00:00",0,{"$nulls":3},"00:00:00",0]
["TOTALI",null,"Km. PERCORSI",{"$nulls":3},"Velocità Media Km/Orari","Km. PERCORSI",{"$nulls":3},"Velocità Media Km/Orari","S P E S E",{"$f":"SUM(N4:N34)","v":{"v":5,"d":"€5.00"}},{"$f":"SUM(O4:O34)","v":{"v":35,"d":"€35.00"}},{"$f":"SUM(P4:P34)","v":0},{"$f":"SUM(Q4:Q34)","v":15}]
[null,null,{"$f":"SUM(D4:D34)","v":75},{"$nulls":4},{"$f":"SUM(I4:I34)","v":110}]
[null,null,"ORE DI VIAGGIO",{"$nulls":3},{"$f":"IF(G39=0,0,SUM(G4:G34)/G39)","v":{"v":47.5,"d":"48"}},"ORE DI VIAGGIO",{"$nulls":3},{"$f":"IF(L39=0,0,SUM(L4:L34)/L39)","v":{"v":46.06896551724143,"d":"46"}},"TOTALE SPESE",{"$f":"N35+O35","v":{"v":40,"d":"€40.00"}}]
[null,null,{"$f":"SUM(F4:F34)*24","v":{"v":1.666666666666666,"d":"1.67"}},{"$nulls":4},{"$f":"SUM(K4:K34)*24","v":{"v":2.4666666666666632,"d":"2.47"}}]
[{"$nulls":6},{"$f":"COUNTIF(G4:G34,\"<>0\")","v":2},{"$nulls":4},{"$f":"COUNTIF(L4:L34,\"<>0\")","v":3}]

{"sheet":"Gennaio","index":2,"n_rows":39,"n_cols":17,"rows_kept":39,"merged":[[0,0,0,1],[0,2,0,6],[0,7,0,11],[0,12,0,16],[1,0,2,1],[1,2,2,2],[1,3,2,3],[1,4,2,4],[1,5,2,5],[1,6,2,6],[1,7,2,7],[1,8,2,8],[1,9,2,9],[1,10,2,10],[1,11,2,11],[1,12,2,12],[1,13,1,14],[1,15,1,16],[34,0,37,1],[34,2,34,5],[34,6,35,6],[34,7,34,10],[34,11,35,11],[34,12,35,12],[34,13,35,13],[34,14,35,14],[34,15,37,15],[34,16,37,16],[35,2,35,5],[35,7,35,10],[36,2,36,5],[36,6,37,6],[36,7,36,10],[36,11,37,11],[36,12,37,12],[36,13,37,14],[37,2,37,5],[37,7,37,10]]}
["Gennaio '2020",null,"A N D A T A",{"$nulls":4},"R I T O R N O"]
["GIORNO",null,"Orario Partenza","Km. Percorsi","Orario Arrivo","Tempo Ora","Velocità Km/Orari","Orario Partenza","Km. Percorsi","Orario Arrivo","Tempo Ora","Velocità Km/Orari","NOTE VARIE","C O S T I",null,"P U N T I"]
[{"$nulls":13},"Pedaggio","Carburante","Tamoil","Esso"]
[1,"Mercole",{"$nulls":3},{"$f":"IF(E4<C4,0,E4-C4)","v":"00:00:00"},{"$f":"IF(C4=0,0,IF(D4=0,0,IF(E4=0,0,(D4/F4)/24)))","v":0},{"$nulls":3},{"$f":"IF(J4<H4,0,J4-H4)","v":"00:00:00"},{"$f":"IF(H4=0,0,IF(I4=0,0,IF(J4=0,0,(I4/K4)/24)))","v":0}]
[2,"Giovedì",{"$nulls":3},{"$f":"IF(E5<C5,0,E5-C5)","v":"00:00:00"},0,{"$nulls":3},{"$f":"IF(J5<H5,0,J5-H5)","v":"00:00:00"},0]
[3,"Venerdì",{"$nulls":3},"00:00:00",0,{"$nulls":3},"00:00:00",0]
[4,"Sabato",{"$nulls":3},"00:00:00",0,{"$nulls":3},"00:00:00",0]
[5,"Domeni",{"$nulls":3},"00:00:00",0,{"$nulls":3},"00:00:00",0]
[6,"Lunedì",{"$nulls":3},"00:00:00",0,{"$nulls":3},"00:00:00",0]
[7,"Martedì",{"$nulls":3},"00:00:00",0,{"$nulls":3},"00:00:00",0]
[8,"Mercole",{"$nulls":3},"00:00:00",0,{"$nulls":3},"00:00:00",0]
[9,"Giovedì",{"$nulls":3},"00:00:00",0,{"$nulls":3},"00:00:00",0]
[10,"Venerdì",{"$nulls":3},"00:00:00",0,{"$nulls":3},"00:00:00",0]
[11,"Sabato",{"$nulls":3},"00:00:00",0,{"$nulls":3},"00:00:00",0]
[12,"Domeni",{"$nulls":3},"00:00:00",0,{"$nulls":3},"00:00:00",0]
[13,"Lunedì",{"$nulls":3},"00:00:00",0,{"$nulls":3},"00:00:00",0]
[14,"Martedì",{"$nulls":3},"00:00:00",0,{"$nulls":3},"00:00:00",0]
[15,"Mercole",{"$nulls":3},"00:00:00",0,{"$nulls":3},"00:00:00",0]
[16,"Giovedì",{"$nulls":3},"00:00:00",0,{"$nulls":3},"00:00:00",0]
[17,"Venerdì",{"$nulls":3},"00:00:00",0,{"$nulls":3},"00:00:00",0]
[18,"Sabato",{"$nulls":3},"00:00:00",0,{"$nulls":3},"00:00:00",0]
[19,"Domeni",{"$nulls":3},"00:00:00",0,{"$nulls":3},"00:00:00",0]
[20,"Lunedì",{"$nulls":3},"00:00:00",0,{"$nulls":3},"00:00:00",0]
[21,"Martedì",{"$nulls":3},"00:00:00",0,{"$nulls":3},"00:00:00",0]
[22,"Mercole",{"$nulls":3},"00:00:00",0,{"$nulls":3},"00:00:00",0]
[23,"Giovedì",{"$nulls":3},"00:00:00",0,{"$nulls":3},"00:00:00",0]
[24,"Venerdì",{"$nulls":3},"00:00:00",0,{"$nulls":3},"00:00:00",0]
[25,"Sabato",{"$nulls":3},"00:00:00",0,{"$nulls":3},"00:00:00",0]
[26,"Domeni",{"$nulls":3},"00:00:00",0,{"$nulls":3},"00:00:00",0]
[27,"Lunedì",{"$nulls":3},"00:00:00",0,{"$nulls":3},"00:00:00",0]
[28,"Martedì",{"$nulls":3},"00:00:00",0,{"$nulls":3},"00:00:00",0]
[29,"Mercole",{"$nulls":3},"00:00:00",0,{"$nulls":3},"00:00:00",0]
[30,"Giovedì",{"$nulls":3},"00:00:00",0,{"$nulls":3},"00:00:00",0]
[31,"Venerdì",{"$nulls":3},"00:00:00",0,{"$nulls":3},"00:00:00",0]
["TOTALI",null,"Km. PERCORSI",{"$nulls":3},"Velocità Media Km/Orari","Km. PERCORSI",{"$nulls":3},"Velocità Media Km/Orari","S P E S E",{"$f":"SUM(N4:N34)","v":0},{"$f":"SUM(O4:O34)","v":0},{"$f":"SUM(P4:P34)","v":0},{"$f":"SUM(Q4:Q34)","v":0}]
[null,null,{"$f":"SUM(D4:D34)","v":0},{"$nulls":4},{"$f":"SUM(I4:I34)","v":0}]
[null,null,"ORE DI VIAGGIO",{"$nulls":3},{"$f":"IF(G39=0,0,SUM(G4:G34)/G39)","v":0},"ORE DI VIAGGIO",{"$nulls":3},{"$f":"IF(L39=0,0,SUM(L4:L34)/L39)","v":0},"TOTALE SPESE",{"$f":"N35+O35","v":0}]
[null,null,{"$f":"SUM(F4:F34)*24","v":{"v":0,"d":"0.00"}},{"$nulls":4},{"$f":"SUM(K4:K34)*24","v":{"v":0,"d":"0.00"}}]
[{"$nulls":6},{"$f":"COUNTIF(G4:G34,\"<>0\")","v":0},{"$nulls":4},{"$f":"COUNTIF(L4:L34,\"<>0\")","v":0}]

{"sheet":"Febbraio","index":3,"n_rows":39,"n_cols":17,"rows_kept":39,"merged":[[0,0,0,1],[0,2,0,6],[0,7,0,11],[0,12,0,16],[1,0,2,1],[1,2,2,2],[1,3,2,3],[1,4,2,4],[1,5,2,5],[1,6,2,6],[1,7,2,7],[1,8,2,8],[1,9,2,9],[1,10,2,10],[1,11,2,11],[1,12,2,12],[1,13,1,14],[1,15,1,16],[34,0,37,1],[34,2,34,5],[34,6,35,6],[34,7,34,10],[34,11,35,11],[34,12,35,12],[34,13,35,13],[34,14,35,14],[34,15,37,15],[34,16,37,16],[35,2,35,5],[35,7,35,10],[36,2,36,5],[36,6,37,6],[36,7,36,10],[36,11,37,11],[36,12,37,12],[36,13,37,14],[37,2,37,5],[37,7,37,10]]}
["Febbraio '2020",null,"A N D A T A",{"$nulls":4},"R I T O R N O"]
["GIORNO",null,"Orario Partenza","Km. Percorsi","Orario Arrivo","Tempo Ora","Velocità Km/Orari","Orario Partenza","Km. Percorsi","Orario Arrivo","Tempo Ora","Velocità Km/Orari","NOTE VARIE","C O S T I",null,"P U N T I"]
[{"$nulls":13},"Pedaggio","Carburante",{"$f":"Gennaio!P3","v":"Tamoil"},{"$f":"Gennaio!Q3","v":"Esso"}]
[1,"Sabato",{"$nulls":3},{"$f":"IF(E4<C4,0,E4-C4)","v":"00:00:00"},{"$f":"IF(C4=0,0,IF(D4=0,0,IF(E4=0,0,(D4/F4)/24)))","v":0},{"$nulls":3},{"$f":"IF(J4<H4,0,J4-H4)","v":"00:00:00"},{"$f":"IF(H4=0,0,IF(I4=0,0,IF(J4=0,0,(I4/K4)/24)))","v":0}]
[2,"Domeni",{"$nulls":3},{"$f":"IF(E5<C5,0,E5-C5)","v":"00:00:00"},0,{"$nulls":3},{"$f":"IF(J5<H5,0,J5-H5)","v":"00:00:00"},0]
[3,"Lunedì",{"$nulls":3},"00:00:00",0,{"$nulls":3},"00:00:00",0]
[4,"Martedì",{"$nulls":3},"00:00:00",0,{"$nulls":3},"00:00:00",0]
[5,"Mercole",{"$nulls":3},"00:00:00",0,{"$nulls":3},"00:00:00",0]
[6,"Giovedì",{"$nulls":3},"00:00:00",0,{"$nulls":3},"00:00:00",0]
[7,"Venerdì",{"$nulls":3},"00:00:00",0,{"$nulls":3},"00:00:00",0]
[8,"Sabato",{"$nulls":3},"00:00:00",0,{"$nulls":3},"00:00:00",0]
[9,"Domeni",{"$nulls":3},"00:00:00",0,{"$nulls":3},"00:00:00",0]
[10,"Lunedì",{"$nulls":3},"00:00:00",0,{"$nulls":3},"00:00:00",0]
[11,"Martedì",{"$nulls":3},"00:00:00",0,{"$nulls":3},"00:00:00",0]
[12,"Mercole",{"$nulls":3},"00:00:00",0,{"$nulls":3},"00:00:00",0]
[13,"Giovedì",{"$nulls":3},"00:00:00",0,{"$nulls":3},"00:00:00",0]
[14,"Venerdì",{"$nulls":3},"00:00:00",0,{"$nulls":3},"00:00:00",0]
[15,"Sabato",{"$nulls":3},"00:00:00",0,{"$nulls":3},"00:00:00",0]
[16,"Domeni",{"$nulls":3},"00:00:00",0,{"$nulls":3},"00:00:00",0]
[17,"Lunedì",{"$nulls":3},"00:00:00",0,{"$nulls":3},"00:00:00",0]
[18,"Martedì",{"$nulls":3},"00:00:00",0,{"$nulls":3},"00:00:00",0]
[19,"Mercole",{"$nulls":3},"00:00:00",0,{"$nulls":3},"00:00:00",0]
[20,"Giovedì",{"$nulls":3},"00:00:00",0,{"$nulls":3},"00:00:00",0]
[21,"Venerdì",{"$nulls":3},"00:00:00",0,{"$nulls":3},"00:00:00",0]
[22,"Sabato",{"$nulls":3},"00:00:00",0,{"$nulls":3},"00:00:00",0]
[23,"Domeni",{"$nulls":3},"00:00:00",0,{"$nulls":3},"00:00:00",0]
[24,"Lunedì",{"$nulls":3},"00:00:00",0,{"$nulls":3},"00:00:00",0]
[25,"Martedì",{"$nulls":3},"00:00:00",0,{"$nulls":3},"00:00:00",0]
[26,"Mercole",{"$nulls":3},"00:00:00",0,{"$nulls":3},"00:00:00",0]
[27,"Giovedì",{"$nulls":3},"00:00:00",0,{"$nulls":3},"00:00:00",0]
[28,"Venerdì",{"$nulls":3},"00:00:00",0,{"$nulls":3},"00:00:00",0]
[29,"Sabato"]
[]
[]
["TOTALI",null,"Km. PERCORSI",{"$nulls":3},"Velocità Media Km/Orari","Km. PERCORSI",{"$nulls":3},"Velocità Media Km/Orari","S P E S E",{"$f":"SUM(N4:N34)","v":0},{"$f":"SUM(O4:O34)","v":0},{"$f":"SUM(P4:P34)","v":0},{"$f":"SUM(Q4:Q34)","v":0}]
[null,null,{"$f":"SUM(D4:D34)","v":0},{"$nulls":4},{"$f":"SUM(I4:I34)","v":0}]
[null,null,"ORE DI VIAGGIO",{"$nulls":3},{"$f":"IF(G39=0,0,SUM(G4:G34)/G39)","v":0},"ORE DI VIAGGIO",{"$nulls":3},{"$f":"IF(L39=0,0,SUM(L4:L34)/L39)","v":0},"TOTALE SPESE",{"$f":"N35+O35","v":0}]
[null,null,{"$f":"SUM(F4:F34)*24","v":{"v":0,"d":"0.00"}},{"$nulls":4},{"$f":"SUM(K4:K34)*24","v":{"v":0,"d":"0.00"}}]
[{"$nulls":6},{"$f":"COUNTIF(G4:G31,\"<>0\")","v":0},{"$nulls":4},{"$f":"COUNTIF(L4:L31,\"<>0\")","v":0}]

{"sheet":"Marzo","index":4,"n_rows":39,"n_cols":17,"rows_kept":39,"merged":[[0,0,0,1],[0,2,0,6],[0,7,0,11],[0,12,0,16],[1,0,2,1],[1,2,2,2],[1,3,2,3],[1,4,2,4],[1,5,2,5],[1,6,2,6],[1,7,2,7],[1,8,2,8],[1,9,2,9],[1,10,2,10],[1,11,2,11],[1,12,2,12],[1,13,1,14],[1,15,1,16],[34,0,37,1],[34,2,34,5],[34,6,35,6],[34,7,34,10],[34,11,35,11],[34,12,35,12],[34,13,35,13],[34,14,35,14],[34,15,37,15],[34,16,37,16],[35,2,35,5],[35,7,35,10],[36,2,36,5],[36,6,37,6],[36,7,36,10],[36,11,37,11],[36,12,37,12],[36,13,37,14],[37,2,37,5],[37,7,37,10]]}
["Marzo '2020",null,"A N D A T A",{"$nulls":4},"R I T O R N O"]
["GIORNO",null,"Orario Partenza","Km. Percorsi","Orario Arrivo","Tempo Ora","Velocità Km/Orari","Orario Partenza","Km. Percorsi","Orario Arrivo","Tempo Ora","Velocità Km/Orari","NOTE VARIE","C O S T I",null,"P U N T I"]
[{"$nulls":13},"Pedaggio","Carburante",{"$f":"Gennaio!P3","v":"Tamoil"},{"$f":"Gennaio!Q3","v":"Esso"}]
[1,"Domeni",{"$nulls":3},{"$f":"IF(E4<C4,0,E4-C4)","v":"00:00:00"},{"$f":"IF(C4=0,0,IF(D4=0,0,IF(E4=0,0,(D4/F4)/24)))","v":0},{"$nulls":3},{"$f":"IF(J4<H4,0,J4-H4)","v":"00:00:00"},{"$f":"IF(H4=0,0,IF(I4=0,0,IF(J4=0,0,(I4/K4)/24)))","v":0}]
[2,"Lunedì",{"$nulls":3},{"$f":"IF(E5<C5,0,E5-C5)","v":"00:00:00"},0,{"$nulls":3},{"$f":"IF(J5<H5,0,J5-H5)","v":"00:00:00"},0]
[3,"Martedì",{"$nulls":3},"00:00:00",0,{"$nulls":3},"00:00:00",0]
[4,"Mercole",{"$nulls":3},"00:00:00",0,{"$nulls":3},"00:00:00",0]
[5,"Giovedì",{"$nulls":3},"00:00:00",0,{"$nulls":3},"00:00:00",0]
[6,"Venerdì",{"$nulls":3},"00:00:00",0,{"$nulls":3},"00:00:00",0]
[7,"Sabato",{"$nulls":3},"00:00:00",0,{"$nulls":3},"00:00:00",0]
[8,"Domeni",{"$nulls":3},"00:00:00",0,{"$nulls":3},"00:00:00",0]
[9,"Lunedì",{"$nulls":3},"00:00:00",0,{"$nulls":3},"00:00:00",0]
[10,"Martedì",{"$nulls":3},"00:00:00",0,{"$nulls":3},"00:00:00",0]
[11,"Mercole",{"$nulls":3},"00:00:00",0,{"$nulls":3},"00:00:00",0]
[12,"Giovedì",{"$nulls":3},"00:00:00",0,{"$nulls":3},"00:00:00",0]
[13,"Venerdì",{"$nulls":3},"00:00:00",0,{"$nulls":3},"00:00:00",0]
[14,"Sabato",{"$nulls":3},"00:00:00",0,{"$nulls":3},"00:00:00",0]
[15,"Domeni",{"$nulls":3},"00:00:00",0,{"$nulls":3},"00:00:00",0]
[16,"Lunedì",{"$nulls":3},"00:00:00",0,{"$nulls":3},"00:00:00",0]
[17,"Martedì",{"$nulls":3},"00:00:00",0,{"$nulls":3},"00:00:00",0]
[18,"Mercole",{"$nulls":3},"00:00:00",0,{"$nulls":3},"00:00:00",0]
[19,"Giovedì",{"$nulls":3},"00:00:00",0,{"$nulls":3},"00:00:00",0]
[20,"Venerdì",{"$nulls":3},"00:00:00",0,{"$nulls":3},"00:00:00",0]
[21,"Sabato",{"$nulls":3},"00:00:00",0,{"$nulls":3},"00:00:00",0]
[22,"Domeni",{"$nulls":3},"00:00:00",0,{"$nulls":3},"00:00:00",0]
[23,"Lunedì",{"$nulls":3},"00:00:00",0,{"$nulls":3},"00:00:00",0]
[24,"Martedì",{"$nulls":3},"00:00:00",0,{"$nulls":3},"00:00:00",0]
[25,"Mercole",{"$nulls":3},"00:00:00",0,{"$nulls":3},"00:00:00",0]
[26,"Giovedì",{"$nulls":3},"00:00:00",0,{"$nulls":3},"00:00:00",0]
[27,"Venerdì",{"$nulls":3},"00:00:00",0,{"$nulls":3},"00:00:00",0]
[28,"Sabato",{"$nulls":3},"00:00:00",0,{"$nulls":3},"00:00:00",0]
[29,"Domeni",{"$nulls":3},"00:00:00",{"$f":"IF(C32=0,0,IF(D32=0,0,IF(E32=0,0,(D32/F32)/24)))","v":0},{"$nulls":3},"00:00:00",{"$f":"IF(H32=0,0,IF(I32=0,0,IF(J32=0,0,(I32/K32)/24)))","v":0}]
[30,"Lunedì",{"$nulls":3},"00:00:00",{"$f":"IF(C33=0,0,IF(D33=0,0,IF(E33=0,0,(D33/F33)/24)))","v":0},{"$nulls":3},"00:00:00",{"$f":"IF(H33=0,0,IF(I33=0,0,IF(J33=0,0,(I33/K33)/24)))","v":0}]
[31,"Martedì",{"$nulls":3},"00:00:00",{"$f":"IF(C34=0,0,IF(D34=0,0,IF(E34=0,0,(D34/F34)/24)))","v":0},{"$nulls":3},"00:00:00",{"$f":"IF(H34=0,0,IF(I34=0,0,IF(J34=0,0,(I34/K34)/24)))","v":0}]
["TOTALI",null,"Km. PERCORSI",{"$nulls":3},"Velocità Media Km/Orari","Km. PERCORSI",{"$nulls":3},"Velocità Media Km/Orari","S P E S E",{"$f":"SUM(N4:N34)","v":0},{"$f":"SUM(O4:O34)","v":0},{"$f":"SUM(P4:P34)","v":0},{"$f":"SUM(Q4:Q34)","v":0}]
[null,null,{"$f":"SUM(D4:D34)","v":0},{"$nulls":4},{"$f":"SUM(I4:I34)","v":0}]
[null,null,"ORE DI VIAGGIO",{"$nulls":3},{"$f":"IF(G39=0,0,SUM(G4:G34)/G39)","v":0},"ORE DI VIAGGIO",{"$nulls":3},{"$f":"IF(L39=0,0,SUM(L4:L34)/L39)","v":0},"TOTALE SPESE",{"$f":"N35+O35","v":0}]
[null,null,{"$f":"SUM(F4:F34)*24","v":{"v":0,"d":"0.00"}},{"$nulls":4},{"$f":"SUM(K4:K34)*24","v":{"v":0,"d":"0.00"}}]
[{"$nulls":6},{"$f":"COUNTIF(G4:G34,\"<>0\")","v":0},{"$nulls":4},{"$f":"COUNTIF(L4:L34,\"<>0\")","v":0}]

{"sheet":"Aprile","index":5,"n_rows":39,"n_cols":17,"rows_kept":39,"merged":[[0,0,0,1],[0,2,0,6],[0,7,0,11],[0,12,0,16],[1,0,2,1],[1,2,2,2],[1,3,2,3],[1,4,2,4],[1,5,2,5],[1,6,2,6],[1,7,2,7],[1,8,2,8],[1,9,2,9],[1,10,2,10],[1,11,2,11],[1,12,2,12],[1,13,1,14],[1,15,1,16],[34,0,37,1],[34,2,34,5],[34,6,35,6],[34,7,34,10],[34,11,35,11],[34,12,35,12],[34,13,35,13],[34,14,35,14],[34,15,37,15],[34,16,37,16],[35,2,35,5],[35,7,35,10],[36,2,36,5],[36,6,37,6],[36,7,36,10],[36,11,37,11],[36,12,37,12],[36,13,37,14],[37,2,37,5],[37,7,37,10]]}
["Aprile '2020",null,"A N D A T A",{"$nulls":4},"R I T O R N O"]
["GIORNO",null,"Orario Partenza","Km. Percorsi","Orario Arrivo","Tempo Ora","Velocità Km/Orari","Orario Partenza","Km. Percorsi","Orario Arrivo","Tempo Ora","Velocità Km/Orari","NOTE VARIE","C O S T I",null,"P U N T I"]
[{"$nulls":13},"Pedaggio","Carburante",{"$f":"Gennaio!P3","v":"Tamoil"},{"$f":"Gennaio!Q3","v":"Esso"}]
[1,"Mercole",{"$nulls":3},{"$f":"IF(E4<C4,0,E4-C4)","v":"00:00:00"},{"$f":"IF(C4=0,0,IF(D4=0,0,IF(E4=0,0,(D4/F4)/24)))","v":0},{"$nulls":3},{"$f":"IF(J4<H4,0,J4-H4)","v":"00:00:00"},{"$f":"IF(H4=0,0,IF(I4=0,0,IF(J4=0,0,(I4/K4)/24)))","v":0}]
[2,"Giovedì",{"$nulls":3},{"$f":"IF(E5<C5,0,E5-C5)","v":"00:00:00"},0,{"$nulls":3},{"$f":"IF(J5<H5,0,J5-H5)","v":"00:00:00"},0]
[3,"Venerdì",{"$nulls":3},"00:00:00",0,{"$nulls":3},"00:00:00",0]
[4,"Sabato",{"$nulls":3},"00:00:00",0,{"$nulls":3},"00:00:00",0]
[5,"Domeni",{"$nulls":3},"00:00:00",0,{"$nulls":3},"00:00:00",0]
[6,"Lunedì",{"$nulls":3},"00:00:00",0,{"$nulls":3},"00:00:00",0]
[7,"Martedì",{"$nulls":3},"00:00:00",0,{"$nulls":3},"00:00:00",0]
[8,"Mercole",{"$nulls":3},"00:00:00",0,{"$nulls":3},"00:00:00",0]
[9,"Giovedì",{"$nulls":3},"00:00:00",0,{"$nulls":3},"00:00:00",0]
[10,"Venerdì",{"$nulls":3},"00:00:00",0,{"$nulls":3},"00:00:00",0]
[11,"Sabato",{"$nulls":3},"00:00:00",0,{"$nulls":3},"00:00:00",0]
[12,"Domeni",{"$nulls":3},"00:00:00",0,{"$nulls":3},"00:00:00",0]
[13,"Lunedì",{"$nulls":3},"00:00:00",0,{"$nulls":3},"00:00:00",0]
[14,"Martedì",{"$nulls":3},"00:00:00",0,{"$nulls":3},"00:00:00",0]
[15,"Mercole",{"$nulls":3},"00:00:00",0,{"$nulls":3},"00:00:00",0]
[16,"Giovedì",{"$nulls":3},"00:00:00",0,{"$nulls":3},"00:00:00",0]
[17,"Venerdì",{"$nulls":3},"00:00:00",0,{"$nulls":3},"00:00:00",0]
[18,"Sabato",{"$nulls":3},"00:00:00",0,{"$nulls":3},"00:00:00",0]
[19,"Domeni",{"$nulls":3},"00:00:00",0,{"$nulls":3},"00:00:00",0]
[20,"Lunedì",{"$nulls":3},"00:00:00",0,{"$nulls":3},"00:00:00",0]
[21,"Martedì",{"$nulls":3},"00:00:00",0,{"$nulls":3},"00:00:00",0]
[22,"Mercole",{"$nulls":3},"00:00:00",0,{"$nulls":3},"00:00:00",0]
[23,"Giovedì",{"$nulls":3},"00:00:00",0,{"$nulls":3},"00:00:00",0]
[24,"Venerdì",{"$nulls":3},"00:00:00",0,{"$nulls":3},"00:00:00",0]
[25,"Sabato",{"$nulls":3},"00:00:00",0,{"$nulls":3},"00:00:00",0]
[26,"Domeni",{"$nulls":3},"00:00:00",0,{"$nulls":3},"00:00:00",0]
[27,"Lunedì",{"$nulls":3},"00:00:00",0,{"$nulls":3},"00:00:00",0]
[28,"Martedì",{"$nulls":3},"00:00:00",0,{"$nulls":3},"00:00:00",0]
[29,"Mercole",{"$nulls":3},"00:00:00",0,{"$nulls":3},"00:00:00",0]
[30,"Giovedì",{"$nulls":3},"00:00:00",0,{"$nulls":3},"00:00:00",0]
[]
["TOTALI",null,"Km. PERCORSI",{"$nulls":3},"Velocità Media Km/Orari","Km. PERCORSI",{"$nulls":3},"Velocità Media Km/Orari","S P E S E",{"$f":"SUM(N4:N34)","v":0},{"$f":"SUM(O4:O34)","v":0},{"$f":"SUM(P4:P34)","v":0},{"$f":"SUM(Q4:Q34)","v":0}]
[null,null,{"$f":"SUM(D4:D34)","v":0},{"$nulls":4},{"$f":"SUM(I4:I34)","v":0}]
[null,null,"ORE DI VIAGGIO",{"$nulls":3},{"$f":"IF(G39=0,0,SUM(G4:G34)/G39)","v":0},"ORE DI VIAGGIO",{"$nulls":3},{"$f":"IF(L39=0,0,SUM(L4:L34)/L39)","v":0},"TOTALE SPESE",{"$f":"N35+O35","v":0}]
[null,null,{"$f":"SUM(F4:F34)*24","v":{"v":0,"d":"0.00"}},{"$nulls":4},{"$f":"SUM(K4:K34)*24","v":{"v":0,"d":"0.00"}}]
[{"$nulls":6},{"$f":"COUNTIF(G4:G33,\"<>0\")","v":0},{"$nulls":4},{"$f":"COUNTIF(L4:L33,\"<>0\")","v":0}]

{"sheet":"Maggio","index":6,"n_rows":39,"n_cols":17,"rows_kept":39,"merged":[[0,0,0,1],[0,2,0,6],[0,7,0,11],[0,12,0,16],[1,0,2,1],[1,2,2,2],[1,3,2,3],[1,4,2,4],[1,5,2,5],[1,6,2,6],[1,7,2,7],[1,8,2,8],[1,9,2,9],[1,10,2,10],[1,11,2,11],[1,12,2,12],[1,13,1,14],[1,15,1,16],[34,0,37,1],[34,2,34,5],[34,6,35,6],[34,7,34,10],[34,11,35,11],[34,12,35,12],[34,13,35,13],[34,14,35,14],[34,15,37,15],[34,16,37,16],[35,2,35,5],[35,7,35,10],[36,2,36,5],[36,6,37,6],[36,7,36,10],[36,11,37,11],[36,12,37,12],[36,13,37,14],[37,2,37,5],[37,7,37,10]]}
["Maggio '2020",null,"A N D A T A",{"$nulls":4},"R I T O R N O"]
["GIORNO",null,"Orario Partenza","Km. Percorsi","Orario Arrivo","Tempo Ora","Velocità Km/Orari","Orario Partenza","Km. Percorsi","Orario Arrivo","Tempo Ora","Velocità Km/Orari","NOTE VARIE","C O S T I",null,"P U N T I"]
[{"$nulls":13},"Pedaggio","Carburante",{"$f":"Gennaio!P3","v":"Tamoil"},{"$f":"Gennaio!Q3","v":"Esso"}]
[1,"Venerdì",{"$nulls":3},{"$f":"IF(E4<C4,0,E4-C4)","v":"00:00:00"},{"$f":"IF(C4=0,0,IF(D4=0,0,IF(E4=0,0,(D4/F4)/24)))","v":0},{"$nulls":3},{"$f":"IF(J4<H4,0,J4-H4)","v":"00:00:00"},{"$f":"IF(H4=0,0,IF(I4=0,0,IF(J4=0,0,(I4/K4)/24)))","v":0}]
[2,"Sabato",{"$nulls":3},{"$f":"IF(E5<C5,0,E5-C5)","v":"00:00:00"},0,{"$nulls":3},{"$f":"IF(J5<H5,0,J5-H5)","v":"00:00:00"},0]
[3,"Domeni",{"$nulls":3},{"$f":"IF(E6<C6,0,E6-C6)","v":"00:00:00"},0,{"$nulls":3},{"$f":"IF(J6<H6,0,J6-H6)","v":"00:00:00"},0]
[4,"Lunedì",{"$nulls":3},"00:00:00",0,{"$nulls":3},"00:00:00",0]
[5,"Martedì",{"$nulls":3},"00:00:00",0,{"$nulls":3},"00:00:00",0]
[6,"Mercole",{"$nulls":3},"00:00:00",0,{"$nulls":3},"00:00:00",0]
[7,"Giovedì",{"$nulls":3},"00:00:00",0,{"$nulls":3},"00:00:00",0]
[8,"Venerdì",{"$nulls":3},"00:00:00",0,{"$nulls":3},"00:00:00",0]
[9,"Sabato",{"$nulls":3},"00:00:00",0,{"$nulls":3},"00:00:00",0]
[10,"Domeni",{"$nulls":3},"00:00:00",0,{"$nulls":3},"00:00:00",0]
[11,"Lunedì",{"$nulls":3},"00:00:00",0,{"$nulls":3},"00:00:00",0]
[12,"Martedì",{"$nulls":3},"00:00:00",0,{"$nulls":3},"00:00:00",0]
[13,"Mercole",{"$nulls":3},"00:00:00",0,{"$nulls":3},"00:00:00",0]
[14,"Giovedì",{"$nulls":3},"00:00:00",0,{"$nulls":3},"00:00:00",0]
[15,"Venerdì",{"$nulls":3},"00:00:00",0,{"$nulls":3},"00:00:00",0]
[16,"Sabato",{"$nulls":3},"00:00:00",0,{"$nulls":3},"00:00:00",0]
[17,"Domeni",{"$nulls":3},"00:00:00",0,{"$nulls":3},"00:00:00",0]
[18,"Lunedì",{"$nulls":3},"00:00:00",0,{"$nulls":3},"00:00:00",0]
[19,"Martedì",{"$nulls":3},"00:00:00",0,{"$nulls":3},"00:00:00",0]
[20,"Mercole",{"$nulls":3},"00:00:00",0,{"$nulls":3},"00:00:00",0]
[21,"Giovedì",{"$nulls":3},"00:00:00",0,{"$nulls":3},"00:00:00",0]
[22,"Venerdì",{"$nulls":3},"00:00:00",0,{"$nulls":3},"00:00:00",0]
[23,"Sabato",{"$nulls":3},"00:00:00",0,{"$nulls":3},"00:00:00",0]
[24,"Domeni",{"$nulls":3},"00:00:00",0,{"$nulls":3},"00:00:00",0]
[25,"Lunedì",{"$nulls":3},"00:00:00",0,{"$nulls":3},"00:00:00",0]
[26,"Martedì",{"$nulls":3},"00:00:00",0,{"$nulls":3},"00:00:00",0]
[27,"Mercole",{"$nulls":3},"00:00:00",0,{"$nulls":3},"00:00:00",0]
[28,"Giovedì",{"$nulls":3},"00:00:00",0,{"$nulls":3},"00:00:00",0]
[29,"Venerdì",{"$nulls":3},"00:00:00",0,{"$nulls":3},"00:00:00",0]
[30,"Sabato",{"$nulls":3},"00:00:00",0,{"$nulls":3},"00:00:00",0]
[31,"Domeni",{"$nulls":3},"00:00:00",0,{"$nulls":3},"00:00:00",0]
["TOTALI",null,"Km. PERCORSI",{"$nulls":3},"Velocità Media Km/Orari","Km. PERCORSI",{"$nulls":3},"Velocità Media Km/Orari","S P E S E",{"$f":"SUM(N4:N34)","v":0},{"$f":"SUM(O4:O34)","v":0},{"$f":"SUM(P4:P34)","v":0},{"$f":"SUM(Q4:Q34)","v":0}]
[null,null,{"$f":"SUM(D4:D34)","v":0},{"$nulls":4},{"$f":"SUM(I4:I34)","v":0}]
[null,null,"ORE DI VIAGGIO",{"$nulls":3},{"$f":"IF(G39=0,0,SUM(G4:G34)/G39)","v":0},"ORE DI VIAGGIO",{"$nulls":3},{"$f":"IF(L39=0,0,SUM(L4:L34)/L39)","v":0},"TOTALE SPESE",{"$f":"N35+O35","v":0}]
[null,null,{"$f":"SUM(F4:F34)*24","v":{"v":0,"d":"0.00"}},{"$nulls":4},{"$f":"SUM(K4:K34)*24","v":{"v":0,"d":"0.00"}}]
[{"$nulls":6},{"$f":"COUNTIF(G4:G34,\"<>0\")","v":0},{"$nulls":4},{"$f":"COUNTIF(L4:L34,\"<>0\")","v":0}]

{"sheet":"Giugno","index":7,"n_rows":39,"n_cols":17,"rows_kept":39,"merged":[[0,0,0,1],[0,2,0,6],[0,7,0,11],[0,12,0,16],[1,0,2,1],[1,2,2,2],[1,3,2,3],[1,4,2,4],[1,5,2,5],[1,6,2,6],[1,7,2,7],[1,8,2,8],[1,9,2,9],[1,10,2,10],[1,11,2,11],[1,12,2,12],[1,13,1,14],[1,15,1,16],[34,0,37,1],[34,2,34,5],[34,6,35,6],[34,7,34,10],[34,11,35,11],[34,12,35,12],[34,13,35,13],[34,14,35,14],[34,15,37,15],[34,16,37,16],[35,2,35,5],[35,7,35,10],[36,2,36,5],[36,6,37,6],[36,7,36,10],[36,11,37,11],[36,12,37,12],[36,13,37,14],[37,2,37,5],[37,7,37,10]]}
["Giugno '2020",null,"A N D A T A",{"$nulls":4},"R I T O R N O"]
["GIORNO",null,"Orario Partenza","Km. Percorsi","Orario Arrivo","Tempo Ora","Velocità Km/Orari","Orario Partenza","Km. Percorsi","Orario Arrivo","Tempo Ora","Velocità Km/Orari","NOTE VARIE","C O S T I",null,"P U N T I"]
[{"$nulls":13},"Pedaggio","Carburante",{"$f":"Gennaio!P3","v":"Tamoil"},{"$f":"Gennaio!Q3","v":"Esso"}]
[1,"Lunedì",{"$nulls":3},{"$f":"IF(E4<C4,0,E4-C4)","v":"00:00:00"},{"$f":"IF(C4=0,0,IF(D4=0,0,IF(E4=0,0,(D4/F4)/24)))","v":0},{"$nulls":3},{"$f":"IF(J4<H4,0,J4-H4)","v":"00:00:00"},{"$f":"IF(H4=0,0,IF(I4=0,0,IF(J4=0,0,(I4/K4)/24)))","v":0}]
[2,"Martedì",{"$nulls":3},{"$f":"IF(E5<C5,0,E5-C5)","v":"00:00:00"},0,{"$nulls":3},{"$f":"IF(J5<H5,0,J5-H5)","v":"00:00:00"},0]
[3,"Mercole",{"$nulls":3},"00:00:00",0,{"$nulls":3},"00:00:00",0]
[4,"Giovedì",{"$nulls":3},"00:00:00",0,{"$nulls":3},"00:00:00",0]
[5,"Venerdì",{"$nulls":3},"00:00:00",0,{"$nulls":3},"00:00:00",0]
[6,"Sabato",{"$nulls":3},"00:00:00",0,{"$nulls":3},"00:00:00",0]
[7,"Domeni",{"$nulls":3},"00:00:00",0,{"$nulls":3},"00:00:00",0]
[8,"Lunedì",{"$nulls":3},"00:00:00",0,{"$nulls":3},"00:00:00",0]
[9,"Martedì",{"$nulls":3},"00:00:00",0,{"$nulls":3},"00:00:00",0]
[10,"Mercole",{"$nulls":3},"00:00:00",0,{"$nulls":3},"00:00:00",0]
[11,"Giovedì",{"$nulls":3},"00:00:00",0,{"$nulls":3},"00:00:00",0]
[12,"Venerdì",{"$nulls":3},"00:00:00",0,{"$nulls":3},"00:00:00",0]
[13,"Sabato",{"$nulls":3},"00:00:00",0,{"$nulls":3},"00:00:00",0]
[14,"Domeni",{"$nulls":3},"00:00:00",0,{"$nulls":3},"00:00:00",0]
[15,"Lunedì",{"$nulls":3},"00:00:00",0,{"$nulls":3},"00:00:00",0]
[16,"Martedì",{"$nulls":3},"00:00:00",0,{"$nulls":3},"00:00:00",0]
[17,"Mercole",{"$nulls":3},"00:00:00",0,{"$nulls":3},"00:00:00",0]
[18,"Giovedì",{"$nulls":3},"00:00:00",0,{"$nulls":3},"00:00:00",0]
[19,"Venerdì",{"$nulls":3},"00:00:00",0,{"$nulls":3},"00:00:00",0]
[20,"Sabato",{"$nulls":3},"00:00:00",0,{"$nulls":3},"00:00:00",0]
[21,"Domeni",{"$nulls":3},"00:00:00",0,{"$nulls":3},"00:00:00",0]
[22,"Lunedì",{"$nulls":3},"00:00:00",0,{"$nulls":3},"00:00:00",0]
[23,"Martedì",{"$nulls":3},"00:00:00",0,{"$nulls":3},"00:00:00",0]
[24,"Mercole",{"$nulls":3},"00:00:00",0,{"$nulls":3},"00:00:00",0]
[25,"Giovedì",{"$nulls":3},"00:00:00",0,{"$nulls":3},"00:00:00",0]
[26,"Venerdì",{"$nulls":3},"00:00:00",0,{"$nulls":3},"00:00:00",0]
[27,"Sabato",{"$nulls":3},"00:00:00",0,{"$nulls":3},"00:00:00",0]
[28,"Domeni",{"$nulls":3},"00:00:00",0,{"$nulls":3},"00:00:00",0]
[29,"Lunedì",{"$nulls":3},"00:00:00",0,{"$nulls":3},"00:00:00",0]
[30,"Martedì",{"$nulls":3},"00:00:00",0,{"$nulls":3},"00:00:00",0]
[]
["TOTALI",null,"Km. PERCORSI",{"$nulls":3},"Velocità Media Km/Orari","Km. PERCORSI",{"$nulls":3},"Velocità Media Km/Orari","S P E S E",{"$f":"SUM(N4:N34)","v":0},{"$f":"SUM(O4:O34)","v":0},{"$f":"SUM(P4:P34)","v":0},{"$f":"SUM(Q4:Q34)","v":0}]
[null,null,{"$f":"SUM(D4:D34)","v":0},{"$nulls":4},{"$f":"SUM(I4:I34)","v":0}]
[null,null,"ORE DI VIAGGIO",{"$nulls":3},{"$f":"IF(G39=0,0,SUM(G4:G34)/G39)","v":0},"ORE DI VIAGGIO",{"$nulls":3},{"$f":"IF(L39=0,0,SUM(L4:L34)/L39)","v":0},"TOTALE SPESE",{"$f":"N35+O35","v":0}]
[null,null,{"$f":"SUM(F4:F34)*24","v":{"v":0,"d":"0.00"}},{"$nulls":4},{"$f":"SUM(K4:K34)*24","v":{"v":0,"d":"0.00"}}]
[{"$nulls":6},{"$f":"COUNTIF(G4:G33,\"<>0\")","v":0},{"$nulls":4},{"$f":"COUNTIF(L4:L33,\"<>0\")","v":0}]

{"sheet":"Luglio","index":8,"n_rows":39,"n_cols":17,"rows_kept":39,"merged":[[0,0,0,1],[0,2,0,6],[0,7,0,11],[0,12,0,16],[1,0,2,1],[1,2,2,2],[1,3,2,3],[1,4,2,4],[1,5,2,5],[1,6,2,6],[1,7,2,7],[1,8,2,8],[1,9,2,9],[1,10,2,10],[1,11,2,11],[1,12,2,12],[1,13,1,14],[1,15,1,16],[34,0,37,1],[34,2,34,5],[34,6,35,6],[34,7,34,10],[34,11,35,11],[34,12,35,12],[34,13,35,13],[34,14,35,14],[34,15,37,15],[34,16,37,16],[35,2,35,5],[35,7,35,10],[36,2,36,5],[36,6,37,6],[36,7,36,10],[36,11,37,11],[36,12,37,12],[36,13,37,14],[37,2,37,5],[37,7,37,10]]}
["Luglio '2020",null,"A N D A T A",{"$nulls":4},"R I T O R N O"]
["GIORNO",null,"Orario Partenza","Km. Percorsi","Orario Arrivo","Tempo Ora","Velocità Km/Orari","Orario Partenza","Km. Percorsi","Orario Arrivo","Tempo Ora","Velocità Km/Orari","NOTE VARIE","C O S T I",null,"P U N T I"]
[{"$nulls":13},"Pedaggio","Carburante",{"$f":"Gennaio!P3","v":"Tamoil"},{"$f":"Gennaio!Q3","v":"Esso"}]
[1,"Mercole",{"$nulls":3},{"$f":"IF(E4<C4,0,E4-C4)","v":"00:00:00"},{"$f":"IF(C4=0,0,IF(D4=0,0,IF(E4=0,0,(D4/F4)/24)))","v":0},{"$nulls":3},{"$f":"IF(J4<H4,0,J4-H4)","v":"00:00:00"},{"$f":"IF(H4=0,0,IF(I4=0,0,IF(J4=0,0,(I4/K4)/24)))","v":0}]
[2,"Giovedì",{"$nulls":3},{"$f":"IF(E5<C5,0,E5-C5)","v":"00:00:00"},0,{"$nulls":3},{"$f":"IF(J5<H5,0,J5-H5)","v":"00:00:00"},0]
[3,"Venerdì",{"$nulls":3},"00:00:00",0,{"$nulls":3},"00:00:00",0]
[4,"Sabato",{"$nulls":3},"00:00:00",0,{"$nulls":3},"00:00:00",0]
[5,"Domeni",{"$nulls":3},"00:00:00",0,{"$nulls":3},"00:00:00",0]
[6,"Lunedì",{"$nulls":3},"00:00:00",0,{"$nulls":3},"00:00:00",0]
[7,"Martedì",{"$nulls":3},"00:00:00",0,{"$nulls":3},"00:00:00",0]
[8,"Mercole",{"$nulls":3},"00:00:00",0,{"$nulls":3},"00:00:00",0]
[9,"Giovedì",{"$nulls":3},"00:00:00",0,{"$nulls":3},"00:00:00",0]
[10,"Venerdì",{"$nulls":3},"00:00:00",0,{"$nulls":3},"00:00:00",0]
[11,"Sabato",{"$nulls":3},"00:00:00",0,{"$nulls":3},"00:00:00",0]
[12,"Domeni",{"$nulls":3},"00:00:00",0,{"$nulls":3},"00:00:00",0]
[13,"Lunedì",{"$nulls":3},"00:00:00",0,{"$nulls":3},"00:00:00",0]
[14,"Martedì",{"$nulls":3},"00:00:00",0,{"$nulls":3},"00:00:00",0]
[15,"Mercole",{"$nulls":3},"00:00:00",0,{"$nulls":3},"00:00:00",0]
[16,"Giovedì",{"$nulls":3},"00:00:00",0,{"$nulls":3},"00:00:00",0]
[17,"Venerdì",{"$nulls":3},"00:00:00",0,{"$nulls":3},"00:00:00",0]
[18,"Sabato",{"$nulls":3},"00:00:00",0,{"$nulls":3},"00:00:00",0]
[19,"Domeni",{"$nulls":3},"00:00:00",0,{"$nulls":3},"00:00:00",0]
[20,"Lunedì",{"$nulls":3},"00:00:00",0,{"$nulls":3},"00:00:00",0]
[21,"Martedì",{"$nulls":3},"00:00:00",0,{"$nulls":3},"00:00:00",0]
[22,"Mercole",{"$nulls":3},"00:00:00",0,{"$nulls":3},"00:00:00",0]
[23,"Giovedì",{"$nulls":3},"00:00:00",0,{"$nulls":3},"00:00:00",0]
[24,"Venerdì",{"$nulls":3},"00:00:00",0,{"$nulls":3},"00:00:00",0]
[25,"Sabato",{"$nulls":3},"00:00:00",0,{"$nulls":3},"00:00:00",0]
[26,"Domeni",{"$nulls":3},"00:00:00",0,{"$nulls":3},"00:00:00",0]
[27,"Lunedì",{"$nulls":3},"00:00:00",0,{"$nulls":3},"00:00:00",0]
[28,"Martedì",{"$nulls":3},"00:00:00",0,{"$nulls":3},"00:00:00",0]
[29,"Mercole",{"$nulls":3},"00:00:00",0,{"$nulls":3},"00:00:00",0]
[30,"Giovedì",{"$nulls":3},"00:00:00",0,{"$nulls":3},"00:00:00",0]
[31,"Venerdì",{"$nulls":3},"00:00:00",{"$f":"IF(C34=0,0,IF(D34=0,0,IF(E34=0,0,(D34/F34)/24)))","v":0},{"$nulls":3},"00:00:00",{"$f":"IF(H34=0,0,IF(I34=0,0,IF(J34=0,0,(I34/K34)/24)))","v":0}]
["TOTALI",null,"Km. PERCORSI",{"$nulls":3},"Velocità Media Km/Orari","Km. PERCORSI",{"$nulls":3},"Velocità Media Km/Orari","S P E S E",{"$f":"SUM(N4:N34)","v":0},{"$f":"SUM(O4:O34)","v":0},{"$f":"SUM(P4:P34)","v":0},{"$f":"SUM(Q4:Q34)","v":0}]
[null,null,{"$f":"SUM(D4:D34)","v":0},{"$nulls":4},{"$f":"SUM(I4:I34)","v":0}]
[null,null,"ORE DI VIAGGIO",{"$nulls":3},{"$f":"IF(G39=0,0,SUM(G4:G34)/G39)","v":0},"ORE DI VIAGGIO",{"$nulls":3},{"$f":"IF(L39=0,0,SUM(L4:L34)/L39)","v":0},"TOTALE SPESE",{"$f":"N35+O35","v":0}]
[null,null,{"$f":"SUM(F4:F34)*24","v":{"v":0,"d":"0.00"}},{"$nulls":4},{"$f":"SUM(K4:K34)*24","v":{"v":0,"d":"0.00"}}]
[{"$nulls":6},{"$f":"COUNTIF(G4:G34,\"<>0\")","v":0},{"$nulls":4},{"$f":"COUNTIF(L4:L34,\"<>0\")","v":0}]

{"sheet":"Agosto","index":9,"n_rows":39,"n_cols":17,"rows_kept":39,"merged":[[0,0,0,1],[0,2,0,6],[0,7,0,11],[0,12,0,16],[1,0,2,1],[1,2,2,2],[1,3,2,3],[1,4,2,4],[1,5,2,5],[1,6,2,6],[1,7,2,7],[1,8,2,8],[1,9,2,9],[1,10,2,10],[1,11,2,11],[1,12,2,12],[1,13,1,14],[1,15,1,16],[34,0,37,1],[34,2,34,5],[34,6,35,6],[34,7,34,10],[34,11,35,11],[34,12,35,12],[34,13,35,13],[34,14,35,14],[34,15,37,15],[34,16,37,16],[35,2,35,5],[35,7,35,10],[36,2,36,5],[36,6,37,6],[36,7,36,10],[36,11,37,11],[36,12,37,12],[36,13,37,14],[37,2,37,5],[37,7,37,10]]}
["Agosto '2020",null,"A N D A T A",{"$nulls":4},"R I T O R N O"]
["GIORNO",null,"Orario Partenza","Km. Percorsi","Orario Arrivo","Tempo Ora","Velocità Km/Orari","Orario Partenza","Km. Percorsi","Orario Arrivo","Tempo Ora","Velocità Km/Orari","NOTE VARIE","C O S T I",null,"P U N T I"]
[{"$nulls":13},"Pedaggio","Carburante",{"$f":"Gennaio!P3","v":"Tamoil"},{"$f":"Gennaio!Q3","v":"Esso"}]
[1,"Sabato",{"$nulls":3},{"$f":"IF(E4<C4,0,E4-C4)","v":"00:00:00"},{"$f":"IF(C4=0,0,IF(D4=0,0,IF(E4=0,0,(D4/F4)/24)))","v":0},{"$nulls":3},{"$f":"IF(J4<H4,0,J4-H4)","v":"00:00:00"},{"$f":"IF(H4=0,0,IF(I4=0,0,IF(J4=0,0,(I4/K4)/24)))","v":0}]
[2,"Domeni",{"$nulls":3},{"$f":"IF(E5<C5,0,E5-C5)","v":"00:00:00"},0,{"$nulls":3},{"$f":"IF(J5<H5,0,J5-H5)","v":"00:00:00"},0]
[3,"Lunedì",{"$nulls":3},"00:00:00",0,{"$nulls":3},"00:00:00",0]
[4,"Martedì",{"$nulls":3},"00:00:00",0,{"$nulls":3},"00:00:00",0]
[5,"Mercole",{"$nulls":3},"00:00:00",0,{"$nulls":3},"00:00:00",0]
[6,"Giovedì",{"$nulls":3},"00:00:00",0,{"$nulls":3},"00:00:00",0]
[7,"Venerdì",{"$nulls":3},"00:00:00",0,{"$nulls":3},"00:00:00",0]
[8,"Sabato",{"$nulls":3},"00:00:00",0,{"$nulls":3},"00:00:00",0]
[9,"Domeni",{"$nulls":3},"00:00:00",0,{"$nulls":3},"00:00:00",0]
[10,"Lunedì",{"$nulls":3},"00:00:00",0,{"$nulls":3},"00:00:00",0]
[11,"Martedì",{"$nulls":3},"00:00:00",0,{"$nulls":3},"00:00:00",0]
[12,"Mercole",{"$nulls":3},"00:00:00",0,{"$nulls":3},"00:00:00",0]
[13,"Giovedì",{"$nulls":3},"00:00:00",0,{"$nulls":3},"00:00:00",0]
[14,"Venerdì",{"$nulls":3},"00:00:00",0,{"$nulls":3},"00:00:00",0]
[15,"Sabato",{"$nulls":3},"00:00:00",0,{"$nulls":3},"00:00:00",0]
[16,"Domeni",{"$nulls":3},"00:00:00",0,{"$nulls":3},"00:00:00",0]
[17,"Lunedì",{"$nulls":3},"00:00:00",0,{"$nulls":3},"00:00:00",0]
[18,"Martedì",{"$nulls":3},"00:00:00",0,{"$nulls":3},"00:00:00",0]
[19,"Mercole",{"$nulls":3},"00:00:00",0,{"$nulls":3},"00:00:00",0]
[20,"Giovedì",{"$nulls":3},"00:00:00",0,{"$nulls":3},"00:00:00",0]
[21,"Venerdì",{"$nulls":3},"00:00:00",0,{"$nulls":3},"00:00:00",0]
[22,"Sabato",{"$nulls":3},"00:00:00",0,{"$nulls":3},"00:00:00",0]
[23,"Domeni",{"$nulls":3},"00:00:00",0,{"$nulls":3},"00:00:00",0]
[24,"Lunedì",{"$nulls":3},"00:00:00",0,{"$nulls":3},"00:00:00",0]
[25,"Martedì",{"$nulls":3},"00:00:00",0,{"$nulls":3},"00:00:00",0]
[26,"Mercole",{"$nulls":3},"00:00:00",0,{"$nulls":3},"00:00:00",0]
[27,"Giovedì",{"$nulls":3},"00:00:00",0,{"$nulls":3},"00:00:00",0]
[28,"Venerdì",{"$nulls":3},"00:00:00",0,{"$nulls":3},"00:00:00",0]
[29,"Sabato",{"$nulls":3},"00:00:00",0,{"$nulls":3},"00:00:00",0]
[30,"Domeni",{"$nulls":3},"00:00:00",0,{"$nulls":3},"00:00:00",0]
[31,"Lunedì",{"$nulls":3},"00:00:00",0,{"$nulls":3},"00:00:00",0]
["TOTALI",null,"Km. PERCORSI",{"$nulls":3},"Velocità Media Km/Orari","Km. PERCORSI",{"$nulls":3},"Velocità Media Km/Orari","S P E S E",{"$f":"SUM(N4:N34)","v":0},{"$f":"SUM(O4:O34)","v":0},{"$f":"SUM(P4:P34)","v":0},{"$f":"SUM(Q4:Q34)","v":0}]
[null,null,{"$f":"SUM(D4:D34)","v":0},{"$nulls":4},{"$f":"SUM(I4:I34)","v":0}]
[null,null,"ORE DI VIAGGIO",{"$nulls":3},{"$f":"IF(G39=0,0,SUM(G4:G34)/G39)","v":0},"ORE DI VIAGGIO",{"$nulls":3},{"$f":"IF(L39=0,0,SUM(L4:L34)/L39)","v":0},"TOTALE SPESE",{"$f":"N35+O35","v":0}]
[null,null,{"$f":"SUM(F4:F34)*24","v":{"v":0,"d":"0.00"}},{"$nulls":4},{"$f":"SUM(K4:K34)*24","v":{"v":0,"d":"0.00"}}]
[{"$nulls":6},{"$f":"COUNTIF(G4:G34,\"<>0\")","v":0},{"$nulls":4},{"$f":"COUNTIF(L4:L34,\"<>0\")","v":0}]

{"sheet":"Settembre","index":10,"n_rows":39,"n_cols":17,"rows_kept":39,"merged":[[0,0,0,1],[0,2,0,6],[0,7,0,11],[0,12,0,16],[1,0,2,1],[1,2,2,2],[1,3,2,3],[1,4,2,4],[1,5,2,5],[1,6,2,6],[1,7,2,7],[1,8,2,8],[1,9,2,9],[1,10,2,10],[1,11,2,11],[1,12,2,12],[1,13,1,14],[1,15,1,16],[34,0,37,1],[34,2,34,5],[34,6,35,6],[34,7,34,10],[34,11,35,11],[34,12,35,12],[34,13,35,13],[34,14,35,14],[34,15,37,15],[34,16,37,16],[35,2,35,5],[35,7,35,10],[36,2,36,5],[36,6,37,6],[36,7,36,10],[36,11,37,11],[36,12,37,12],[36,13,37,14],[37,2,37,5],[37,7,37,10]]}
["Settembre '2020",null,"A N D A T A",{"$nulls":4},"R I T O R N O"]
["GIORNO",null,"Orario Partenza","Km. Percorsi","Orario Arrivo","Tempo Ora","Velocità Km/Orari","Orario Partenza","Km. Percorsi","Orario Arrivo","Tempo Ora","Velocità Km/Orari","NOTE VARIE","C O S T I",null,"P U N T I"]
[{"$nulls":13},"Pedaggio","Carburante",{"$f":"Gennaio!P3","v":"Tamoil"},{"$f":"Gennaio!Q3","v":"Esso"}]
[1,"Martedì",{"$nulls":3},{"$f":"IF(E4<C4,0,E4-C4)","v":"00:00:00"},{"$f":"IF(C4=0,0,IF(D4=0,0,IF(E4=0,0,(D4/F4)/24)))","v":0},{"$nulls":3},{"$f":"IF(J4<H4,0,J4-H4)","v":"00:00:00"},{"$f":"IF(H4=0,0,IF(I4=0,0,IF(J4=0,0,(I4/K4)/24)))","v":0}]
[2,"Mercole",{"$nulls":3},{"$f":"IF(E5<C5,0,E5-C5)","v":"00:00:00"},0,{"$nulls":3},{"$f":"IF(J5<H5,0,J5-H5)","v":"00:00:00"},0]
[3,"Giovedì",{"$nulls":3},"00:00:00",0,{"$nulls":3},"00:00:00",0]
[4,"Venerdì",{"$nulls":3},"00:00:00",0,{"$nulls":3},"00:00:00",0]
[5,"Sabato",{"$nulls":3},"00:00:00",0,{"$nulls":3},"00:00:00",0]
[6,"Domeni",{"$nulls":3},"00:00:00",0,{"$nulls":3},"00:00:00",0]
[7,"Lunedì",{"$nulls":3},"00:00:00",0,{"$nulls":3},"00:00:00",0]
[8,"Martedì",{"$nulls":3},"00:00:00",0,{"$nulls":3},"00:00:00",0]
[9,"Mercole",{"$nulls":3},"00:00:00",0,{"$nulls":3},"00:00:00",0]
[10,"Giovedì",{"$nulls":3},"00:00:00",0,{"$nulls":3},"00:00:00",0]
[11,"Venerdì",{"$nulls":3},"00:00:00",0,{"$nulls":3},"00:00:00",0]
[12,"Sabato",{"$nulls":3},"00:00:00",0,{"$nulls":3},"00:00:00",0]
[13,"Domeni",{"$nulls":3},"00:00:00",0,{"$nulls":3},"00:00:00",0]
[14,"Lunedì",{"$nulls":3},"00:00:00",0,{"$nulls":3},"00:00:00",0]
[15,"Martedì",{"$nulls":3},"00:00:00",0,{"$nulls":3},"00:00:00",0]
[16,"Mercole",{"$nulls":3},"00:00:00",0,{"$nulls":3},"00:00:00",0]
[17,"Giovedì",{"$nulls":3},"00:00:00",0,{"$nulls":3},"00:00:00",0]
[18,"Venerdì",{"$nulls":3},"00:00:00",0,{"$nulls":3},"00:00:00",0]
[19,"Sabato",{"$nulls":3},"00:00:00",0,{"$nulls":3},"00:00:00",0]
[20,"Domeni",{"$nulls":3},"00:00:00",0,{"$nulls":3},"00:00:00",0]
[21,"Lunedì",{"$nulls":3},"00:00:00",0,{"$nulls":3},"00:00:00",0]
[22,"Martedì",{"$nulls":3},"00:00:00",0,{"$nulls":3},"00:00:00",0]
[23,"Mercole",{"$nulls":3},"00:00:00",0,{"$nulls":3},"00:00:00",0]
[24,"Giovedì",{"$nulls":3},"00:00:00",0,{"$nulls":3},"00:00:00",0]
[25,"Venerdì",{"$nulls":3},"00:00:00",0,{"$nulls":3},"00:00:00",0]
[26,"Sabato",{"$nulls":3},"00:00:00",0,{"$nulls":3},"00:00:00",0]
[27,"Domeni",{"$nulls":3},"00:00:00",0,{"$nulls":3},"00:00:00",0]
[28,"Lunedì",{"$nulls":3},"00:00:00",0,{"$nulls":3},"00:00:00",0]
[29,"Martedì",{"$nulls":3},"00:00:00",0,{"$nulls":3},"00:00:00",0]
[30,"Mercole",{"$nulls":3},"00:00:00",0,{"$nulls":3},"00:00:00",0]
[]
["TOTALI",null,"Km. PERCORSI",{"$nulls":3},"Velocità Media Km/Orari","Km. PERCORSI",{"$nulls":3},"Velocità Media Km/Orari","S P E S E",{"$f":"SUM(N4:N34)","v":0},{"$f":"SUM(O4:O34)","v":0},{"$f":"SUM(P4:P34)","v":0},{"$f":"SUM(Q4:Q34)","v":0}]
[null,null,{"$f":"SUM(D4:D34)","v":0},{"$nulls":4},{"$f":"SUM(I4:I34)","v":0}]
[null,null,"ORE DI VIAGGIO",{"$nulls":3},{"$f":"IF(G39=0,0,SUM(G4:G34)/G39)","v":0},"ORE DI VIAGGIO",{"$nulls":3},{"$f":"IF(L39=0,0,SUM(L4:L34)/L39)","v":0},"TOTALE SPESE",{"$f":"N35+O35","v":0}]
[null,null,{"$f":"SUM(F4:F34)*24","v":{"v":0,"d":"0.00"}},{"$nulls":4},{"$f":"SUM(K4:K34)*24","v":{"v":0,"d":"0.00"}}]
[{"$nulls":6},{"$f":"COUNTIF(G4:G33,\"<>0\")","v":0},{"$nulls":4},{"$f":"COUNTIF(L4:L33,\"<>0\")","v":0}]

{"sheet":"Ottobre","index":11,"n_rows":39,"n_cols":17,"rows_kept":39,"merged":[[0,0,0,1],[0,2,0,6],[0,7,0,11],[0,12,0,16],[1,0,2,1],[1,2,2,2],[1,3,2,3],[1,4,2,4],[1,5,2,5],[1,6,2,6],[1,7,2,7],[1,8,2,8],[1,9,2,9],[1,10,2,10],[1,11,2,11],[1,12,2,12],[1,13,1,14],[1,15,1,16],[34,0,37,1],[34,2,34,5],[34,6,35,6],[34,7,34,10],[34,11,35,11],[34,12,35,12],[34,13,35,13],[34,14,35,14],[34,15,37,15],[34,16,37,16],[35,2,35,5],[35,7,35,10],[36,2,36,5],[36,6,37,6],[36,7,36,10],[36,11,37,11],[36,12,37,12],[36,13,37,14],[37,2,37,5],[37,7,37,10]]}
["Ottobre '2020",null,"A N D A T A",{"$nulls":4},"R I T O R N O"]
["GIORNO",null,"Orario Partenza","Km. Percorsi","Orario Arrivo","Tempo Ora","Velocità Km/Orari","Orario Partenza","Km. Percorsi","Orario Arrivo","Tempo Ora","Velocità Km/Orari","NOTE VARIE","C O S T I",null,"P U N T I"]
[{"$nulls":13},"Pedaggio","Carburante",{"$f":"Gennaio!P3","v":"Tamoil"},{"$f":"Gennaio!Q3","v":"Esso"}]
[1,"Giovedì",{"$nulls":3},{"$f":"IF(E4<C4,0,E4-C4)","v":"00:00:00"},{"$f":"IF(C4=0,0,IF(D4=0,0,IF(E4=0,0,(D4/F4)/24)))","v":0},{"$nulls":3},{"$f":"IF(J4<H4,0,J4-H4)","v":"00:00:00"},{"$f":"IF(H4=0,0,IF(I4=0,0,IF(J4=0,0,(I4/K4)/24)))","v":0}]
[2,"Venerdì",{"$nulls":3},{"$f":"IF(E5<C5,0,E5-C5)","v":"00:00:00"},0,{"$nulls":3},{"$f":"IF(J5<H5,0,J5-H5)","v":"00:00:00"},0]
[3,"Sabato",{"$nulls":3},{"$f":"IF(E6<C6,0,E6-C6)","v":"00:00:00"},0,{"$nulls":3},{"$f":"IF(J6<H6,0,J6-H6)","v":"00:00:00"},0]
[4,"Domeni",{"$nulls":3},{"$f":"IF(E7<C7,0,E7-C7)","v":"00:00:00"},0,{"$nulls":3},{"$f":"IF(J7<H7,0,J7-H7)","v":"00:00:00"},0]
[5,"Lunedì",{"$nulls":3},"00:00:00",0,{"$nulls":3},"00:00:00",0]
[6,"Martedì",{"$nulls":3},"00:00:00",0,{"$nulls":3},"00:00:00",0]
[7,"Mercole",{"$nulls":3},"00:00:00",0,{"$nulls":3},"00:00:00",0]
[8,"Giovedì",{"$nulls":3},"00:00:00",0,{"$nulls":3},"00:00:00",0]
[9,"Venerdì",{"$nulls":3},"00:00:00",0,{"$nulls":3},"00:00:00",0]
[10,"Sabato",{"$nulls":3},"00:00:00",0,{"$nulls":3},"00:00:00",0]
[11,"Domeni",{"$nulls":3},"00:00:00",0,{"$nulls":3},"00:00:00",0]
[12,"Lunedì",{"$nulls":3},"00:00:00",0,{"$nulls":3},"00:00:00",0]
[13,"Martedì",{"$nulls":3},"00:00:00",0,{"$nulls":3},"00:00:00",0]
[14,"Mercole",{"$nulls":3},"00:00:00",0,{"$nulls":3},"00:00:00",0]
[15,"Giovedì",{"$nulls":3},"00:00:00",0,{"$nulls":3},"00:00:00",0]
[16,"Venerdì",{"$nulls":3},"00:00:00",0,{"$nulls":3},"00:00:00",0]
[17,"Sabato",{"$nulls":3},"00:00:00",0,{"$nulls":3},"00:00:00",0]
[18,"Domeni",{"$nulls":3},"00:00:00",0,{"$nulls":3},"00:00:00",0]
[19,"Lunedì",{"$nulls":3},"00:00:00",0,{"$nulls":3},"00:00:00",0]
[20,"Martedì",{"$nulls":3},"00:00:00",0,{"$nulls":3},"00:00:00",0]
[21,"Mercole",{"$nulls":3},"00:00:00",0,{"$nulls":3},"00:00:00",0]
[22,"Giovedì",{"$nulls":3},"00:00:00",0,{"$nulls":3},"00:00:00",0]
[23,"Venerdì",{"$nulls":3},"00:00:00",0,{"$nulls":3},"00:00:00",0]
[24,"Sabato",{"$nulls":3},"00:00:00",0,{"$nulls":3},"00:00:00",0]
[25,"Domeni",{"$nulls":3},"00:00:00",0,{"$nulls":3},"00:00:00",0]
[26,"Lunedì",{"$nulls":3},"00:00:00",0,{"$nulls":3},"00:00:00",0]
[27,"Martedì",{"$nulls":3},"00:00:00",0,{"$nulls":3},"00:00:00",0]
[28,"Mercole",{"$nulls":3},"00:00:00",0,{"$nulls":3},"00:00:00",0]
[29,"Giovedì",{"$nulls":3},"00:00:00",0,{"$nulls":3},"00:00:00",0]
[30,"Venerdì",{"$nulls":3},"00:00:00",0,{"$nulls":3},"00:00:00",0]
[31,"Sabato",{"$nulls":3},"00:00:00",0,{"$nulls":3},"00:00:00",0]
["TOTALI",null,"Km. PERCORSI",{"$nulls":3},"Velocità Media Km/Orari","Km. PERCORSI",{"$nulls":3},"Velocità Media Km/Orari","S P E S E",{"$f":"SUM(N4:N34)","v":0},{"$f":"SUM(O4:O34)","v":0},{"$f":"SUM(P4:P34)","v":0},{"$f":"SUM(Q4:Q34)","v":0}]
[null,null,{"$f":"SUM(D4:D34)","v":0},{"$nulls":4},{"$f":"SUM(I4:I34)","v":0}]
[null,null,"ORE DI VIAGGIO",{"$nulls":3},{"$f":"IF(G39=0,0,SUM(G4:G34)/G39)","v":0},"ORE DI VIAGGIO",{"$nulls":3},{"$f":"IF(L39=0,0,SUM(L4:L34)/L39)","v":0},"TOTALE SPESE",{"$f":"N35+O35","v":0}]
[null,null,{"$f":"SUM(F4:F34)*24","v":{"v":0,"d":"0.00"}},{"$nulls":4},{"$f":"SUM(K4:K34)*24","v":{"v":0,"d":"0.00"}}]
[{"$nulls":6},{"$f":"COUNTIF(G4:G34,\"<>0\")","v":0},{"$nulls":4},{"$f":"COUNTIF(L4:L34,\"<>0\")","v":0}]

{"sheet":"Novembre","index":12,"n_rows":39,"n_cols":17,"rows_kept":39,"merged":[[0,0,0,1],[0,2,0,6],[0,7,0,11],[0,12,0,16],[1,0,2,1],[1,2,2,2],[1,3,2,3],[1,4,2,4],[1,5,2,5],[1,6,2,6],[1,7,2,7],[1,8,2,8],[1,9,2,9],[1,10,2,10],[1,11,2,11],[1,12,2,12],[1,13,1,14],[1,15,1,16],[34,0,37,1],[34,2,34,5],[34,6,35,6],[34,7,34,10],[34,11,35,11],[34,12,35,12],[34,13,35,13],[34,14,35,14],[34,15,37,15],[34,16,37,16],[35,2,35,5],[35,7,35,10],[36,2,36,5],[36,6,37,6],[36,7,36,10],[36,11,37,11],[36,12,37,12],[36,13,37,14],[37,2,37,5],[37,7,37,10]]}
["Novembre '2020",null,"A N D A T A",{"$nulls":4},"R I T O R N O"]
["GIORNO",null,"Orario Partenza","Km. Percorsi","Orario Arrivo","Tempo Ora","Velocità Km/Orari","Orario Partenza","Km. Percorsi","Orario Arrivo","Tempo Ora","Velocità Km/Orari","NOTE VARIE","C O S T I",null,"P U N T I"]
[{"$nulls":13},"Pedaggio","Carburante",{"$f":"Gennaio!P3","v":"Tamoil"},{"$f":"Gennaio!Q3","v":"Esso"}]
[1,"Domeni",{"$nulls":3},{"$f":"IF(E4<C4,0,E4-C4)","v":"00:00:00"},{"$f":"IF(C4=0,0,IF(D4=0,0,IF(E4=0,0,(D4/F4)/24)))","v":0},{"$nulls":3},{"$f":"IF(J4<H4,0,J4-H4)","v":"00:00:00"},{"$f":"IF(H4=0,0,IF(I4=0,0,IF(J4=0,0,(I4/K4)/24)))","v":0}]
[2,"Lunedì",{"$nulls":3},{"$f":"IF(E5<C5,0,E5-C5)","v":"00:00:00"},0,{"$nulls":3},{"$f":"IF(J5<H5,0,J5-H5)","v":"00:00:00"},0]
[3,"Martedì",{"$nulls":3},"00:00:00",0,{"$nulls":3},"00:00:00",0]
[4,"Mercole",{"$nulls":3},"00:00:00",0,{"$nulls":3},"00:00:00",0]
[5,"Giovedì",{"$nulls":3},"00:00:00",0,{"$nulls":3},"00:00:00",0]
[6,"Venerdì",{"$nulls":3},"00:00:00",0,{"$nulls":3},"00:00:00",0]
[7,"Sabato",{"$nulls":3},"00:00:00",0,{"$nulls":3},"00:00:00",0]
[8,"Domeni",{"$nulls":3},"00:00:00",0,{"$nulls":3},"00:00:00",0]
[9,"Lunedì",{"$nulls":3},"00:00:00",0,{"$nulls":3},"00:00:00",0]
[10,"Martedì",{"$nulls":3},"00:00:00",0,{"$nulls":3},"00:00:00",0]
[11,"Mercole",{"$nulls":3},"00:00:00",0,{"$nulls":3},"00:00:00",0]
[12,"Giovedì",{"$nulls":3},"00:00:00",0,{"$nulls":3},"00:00:00",0]
[13,"Venerdì",{"$nulls":3},"00:00:00",0,{"$nulls":3},"00:00:00",0]
[14,"Sabato",{"$nulls":3},"00:00:00",0,{"$nulls":3},"00:00:00",0]
[15,"Domeni",{"$nulls":3},"00:00:00",0,{"$nulls":3},"00:00:00",0]
[16,"Lunedì",{"$nulls":3},"00:00:00",0,{"$nulls":3},"00:00:00",0]
[17,"Martedì",{"$nulls":3},"00:00:00",0,{"$nulls":3},"00:00:00",0]
[18,"Mercole",{"$nulls":3},"00:00:00",0,{"$nulls":3},"00:00:00",0]
[19,"Giovedì",{"$nulls":3},"00:00:00",0,{"$nulls":3},"00:00:00",0]
[20,"Venerdì",{"$nulls":3},"00:00:00",0,{"$nulls":3},"00:00:00",0]
[21,"Sabato",{"$nulls":3},"00:00:00",0,{"$nulls":3},"00:00:00",0]
[22,"Domeni",{"$nulls":3},"00:00:00",0,{"$nulls":3},"00:00:00",0]
[23,"Lunedì",{"$nulls":3},"00:00:00",0,{"$nulls":3},"00:00:00",0]
[24,"Martedì",{"$nulls":3},"00:00:00",0,{"$nulls":3},"00:00:00",0]
[25,"Mercole",{"$nulls":3},"00:00:00",0,{"$nulls":3},"00:00:00",0]
[26,"Giovedì",{"$nulls":3},"00:00:00",0,{"$nulls":3},"00:00:00",0]
[27,"Venerdì",{"$nulls":3},"00:00:00",0,{"$nulls":3},"00:00:00",0]
[28,"Sabato",{"$nulls":3},"00:00:00",0,{"$nulls":3},"00:00:00",0]
[29,"Domeni",{"$nulls":3},"00:00:00",0,{"$nulls":3},"00:00:00",0]
[30,"Lunedì",{"$nulls":3},"00:00:00",0,{"$nulls":3},"00:00:00",0]
[]
["TOTALI",null,"Km. PERCORSI",{"$nulls":3},"Velocità Media Km/Orari","Km. PERCORSI",{"$nulls":3},"Velocità Media Km/Orari","S P E S E",{"$f":"SUM(N4:N34)","v":0},{"$f":"SUM(O4:O34)","v":0},{"$f":"SUM(P4:P34)","v":0},{"$f":"SUM(Q4:Q34)","v":0}]
[null,null,{"$f":"SUM(D4:D34)","v":0},{"$nulls":4},{"$f":"SUM(I4:I34)","v":0}]
[null,null,"ORE DI VIAGGIO",{"$nulls":3},{"$f":"IF(G39=0,0,SUM(G4:G34)/G39)","v":0},"ORE DI VIAGGIO",{"$nulls":3},{"$f":"IF(L39=0,0,SUM(L4:L34)/L39)","v":0},"TOTALE SPESE",{"$f":"N35+O35","v":0}]
[null,null,{"$f":"SUM(F4:F34)*24","v":{"v":0,"d":"0.00"}},{"$nulls":4},{"$f":"SUM(K4:K34)*24","v":{"v":0,"d":"0.00"}}]
[{"$nulls":6},{"$f":"COUNTIF(G4:G33,\"<>0\")","v":0},{"$nulls":4},{"$f":"COUNTIF(L4:L33,\"<>0\")","v":0}]

{"sheet":"Dicembre","index":13,"n_rows":39,"n_cols":17,"rows_kept":39,"merged":[[0,0,0,1],[0,2,0,6],[0,7,0,11],[0,12,0,16],[1,0,2,1],[1,2,2,2],[1,3,2,3],[1,4,2,4],[1,5,2,5],[1,6,2,6],[1,7,2,7],[1,8,2,8],[1,9,2,9],[1,10,2,10],[1,11,2,11],[1,12,2,12],[1,13,1,14],[1,15,1,16],[34,0,37,1],[34,2,34,5],[34,6,35,6],[34,7,34,10],[34,11,35,11],[34,12,35,12],[34,13,35,13],[34,14,35,14],[34,15,37,15],[34,16,37,16],[35,2,35,5],[35,7,35,10],[36,2,36,5],[36,6,37,6],[36,7,36,10],[36,11,37,11],[36,12,37,12],[36,13,37,14],[37,2,37,5],[37,7,37,10]]}
["Dicembre '2020",null,"A N D A T A",{"$nulls":4},"R I T O R N O"]
["GIORNO",null,"Orario Partenza","Km. Percorsi","Orario Arrivo","Tempo Ora","Velocità Km/Orari","Orario Partenza","Km. Percorsi","Orario Arrivo","Tempo Ora","Velocità Km/Orari","NOTE VARIE","C O S T I",null,"P U N T I"]
[{"$nulls":13},"Pedaggio","Carburante",{"$f":"Gennaio!P3","v":"Tamoil"},{"$f":"Gennaio!Q3","v":"Esso"}]
[1,"Martedì",{"$nulls":3},{"$f":"IF(E4<C4,0,E4-C4)","v":"00:00:00"},{"$f":"IF(C4=0,0,IF(D4=0,0,IF(E4=0,0,(D4/F4)/24)))","v":0},{"$nulls":3},{"$f":"IF(J4<H4,0,J4-H4)","v":"00:00:00"},{"$f":"IF(H4=0,0,IF(I4=0,0,IF(J4=0,0,(I4/K4)/24)))","v":0}]
[2,"Mercole",{"$nulls":3},{"$f":"IF(E5<C5,0,E5-C5)","v":"00:00:00"},0,{"$nulls":3},{"$f":"IF(J5<H5,0,J5-H5)","v":"00:00:00"},0]
[3,"Giovedì",{"$nulls":3},"00:00:00",0,{"$nulls":3},"00:00:00",0]
[4,"Venerdì",{"$nulls":3},"00:00:00",0,{"$nulls":3},"00:00:00",0]
[5,"Sabato",{"$nulls":3},"00:00:00",0,{"$nulls":3},"00:00:00",0]
[6,"Domeni",{"$nulls":3},"00:00:00",0,{"$nulls":3},"00:00:00",0]
[7,"Lunedì",{"$nulls":3},"00:00:00",0,{"$nulls":3},"00:00:00",0]
[8,"Martedì",{"$nulls":3},"00:00:00",0,{"$nulls":3},"00:00:00",0]
[9,"Mercole",{"$nulls":3},"00:00:00",0,{"$nulls":3},"00:00:00",0]
[10,"Giovedì",{"$nulls":3},"00:00:00",0,{"$nulls":3},"00:00:00",0]
[11,"Venerdì",{"$nulls":3},"00:00:00",0,{"$nulls":3},"00:00:00",0]
[12,"Sabato",{"$nulls":3},"00:00:00",0,{"$nulls":3},"00:00:00",0]
[13,"Domeni",{"$nulls":3},"00:00:00",0,{"$nulls":3},"00:00:00",0]
[14,"Lunedì",{"$nulls":3},"00:00:00",0,{"$nulls":3},"00:00:00",0]
[15,"Martedì",{"$nulls":3},"00:00:00",0,{"$nulls":3},"00:00:00",0]
[16,"Mercole",{"$nulls":3},"00:00:00",0,{"$nulls":3},"00:00:00",0]
[17,"Giovedì",{"$nulls":3},"00:00:00",0,{"$nulls":3},"00:00:00",0]
[18,"Venerdì",{"$nulls":3},"00:00:00",0,{"$nulls":3},"00:00:00",0]
[19,"Sabato",{"$nulls":3},"00:00:00",0,{"$nulls":3},"00:00:00",0]
[20,"Domeni",{"$nulls":3},"00:00:00",0,{"$nulls":3},"00:00:00",0]
[21,"Lunedì",{"$nulls":3},"00:00:00",0,{"$nulls":3},"00:00:00",0]
[22,"Martedì",{"$nulls":3},"00:00:00",0,{"$nulls":3},"00:00:00",0]
[23,"Mercole",{"$nulls":3},"00:00:00",0,{"$nulls":3},"00:00:00",0]
[24,"Giovedì",{"$nulls":3},"00:00:00",0,{"$nulls":3},"00:00:00",0]
[25,"Venerdì",{"$nulls":3},"00:00:00",0,{"$nulls":3},"00:00:00",0]
[26,"Sabato",{"$nulls":3},"00:00:00",0,{"$nulls":3},"00:00:00",0]
[27,"Domeni",{"$nulls":3},"00:00:00",0,{"$nulls":3},"00:00:00",0]
[28,"Lunedì",{"$nulls":3},"00:00:00",0,{"$nulls":3},"00:00:00",0]
[29,"Martedì",{"$nulls":3},"00:00:00",0,{"$nulls":3},"00:00:00",0]
[30,"Mercole",{"$nulls":3},"00:00:00",0,{"$nulls":3},"00:00:00",0]
[31,"Giovedì",{"$nulls":3},"00:00:00",{"$f":"IF(C34=0,0,IF(D34=0,0,IF(E34=0,0,(D34/F34)/24)))","v":0},{"$nulls":3},"00:00:00",{"$f":"IF(H34=0,0,IF(I34=0,0,IF(J34=0,0,(I34/K34)/24)))","v":0}]
["TOTALI",null,"Km. PERCORSI",{"$nulls":3},"Velocità Media Km/Orari","Km. PERCORSI",{"$nulls":3},"Velocità Media Km/Orari","S P E S E",{"$f":"SUM(N4:N34)","v":0},{"$f":"SUM(O4:O34)","v":0},{"$f":"SUM(P4:P34)","v":0},{"$f":"SUM(Q4:Q34)","v":0}]
[null,null,{"$f":"SUM(D4:D34)","v":0},{"$nulls":4},{"$f":"SUM(I4:I34)","v":0}]
[null,null,"ORE DI VIAGGIO",{"$nulls":3},{"$f":"IF(G39=0,0,SUM(G4:G34)/G39)","v":0},"ORE DI VIAGGIO",{"$nulls":3},{"$f":"IF(L39=0,0,SUM(L4:L34)/L39)","v":0},"TOTALE SPESE",{"$f":"N35+O35","v":0}]
[null,null,{"$f":"SUM(F4:F34)*24","v":{"v":0,"d":"0.00"}},{"$nulls":4},{"$f":"SUM(K4:K34)*24","v":{"v":0,"d":"0.00"}}]
[{"$nulls":6},{"$f":"COUNTIF(G4:G34,\"<>0\")","v":0},{"$nulls":4},{"$f":"COUNTIF(L4:L34,\"<>0\")","v":0}]

{"sheet":"Riassunto","index":14,"n_rows":35,"n_cols":8,"rows_kept":35,"merged":[[1,0,1,7],[3,0,4,0],[3,1,4,1],[3,2,4,2],[3,3,4,3],[3,4,4,4],[3,5,4,5],[5,0,6,0],[5,1,6,1],[5,2,6,2],[5,3,6,3],[5,4,6,4],[5,5,6,5],[5,6,6,6],[5,7,6,7],[7,0,8,0],[7,1,8,1],[7,2,8,2],[7,3,8,3],[7,4,8,4],[7,5,8,5],[7,6,8,6],[7,7,8,7],[9,0,10,0],[9,1,10,1],[9,2,10,2],[9,3,10,3],[9,4,10,4],[9,5,10,5],[9,6,10,6],[9,7,10,7],[11,0,12,0],[11,1,12,1],[11,2,12,2],[11,3,12,3],[11,4,12,4],[11,5,12,5],[11,6,12,6],[11,7,12,7],[13,0,14,0],[13,1,14,1],[13,2,14,2],[13,3,14,3],[13,4,14,4],[13,5,14,5],[13,6,14,6],[13,7,14,7],[15,0,16,0],[15,1,16,1],[15,2,16,2],[15,3,16,3],[15,4,16,4],[15,5,16,5],[15,6,16,6],[15,7,16,7],[17,0,18,0],[17,1,18,1],[17,2,18,2],[17,3,18,3],[17,4,18,4],[17,5,18,5],[17,6,18,6],[17,7,18,7],[19,0,20,0],[19,1,20,1],[19,2,20,2],[19,3,20,3],[19,4,20,4],[19,5,20,5],[19,6,20,6],[19,7,20,7],[21,0,22,0],[21,1,22,1],[21,2,22,2],[21,3,22,3],[21,4,22,4],[21,5,22,5],[21,6,22,6],[21,7,22,7],[23,0,24,0],[23,1,24,1],[23,2,24,2],[23,3,24,3],[23,4,24,4],[23,5,24,5],[23,6,24,6],[23,7,24,7],[25,0,26,0],[25,1,26,1],[25,2,26,2],[25,3,26,3],[25,4,26,4],[25,5,26,5],[25,6,26,6],[25,7,26,7],[27,0,28,0],[27,1,28,1],[27,2,28,2],[27,3,28,3],[27,4,28,4],[27,5,28,5],[27,6,28,6],[27,7,28,7],[29,0,32,0],[29,1,32,1],[29,2,32,2],[29,3,32,3],[29,4,32,4],[29,6,33,6],[29,7,33,7],[30,5,31,5]]}
[]
[]
[]
["GRAFICI  DEI  MESI","SPESE PEDAGGIO","SPESE CARBURANTE","TOTALE SPESE","CHILOMETRI PERCORSI","TEMPO IMPIEGATO","PUNTI","PUNTI"]
[{"$nulls":6},{"$f":"Gennaio!P3","v":"Tamoil"},{"$f":"Gennaio!Q3","v":"Esso"}]
["GENNAIO",{"$f":"Gennaio!N35","v":0},{"$f":"Gennaio!O35","v":0},{"$f":"B6+C6","v":0},{"$f":"Gennaio!C36+Gennaio!H36","v":0},{"$f":"Gennaio!C38+Gennaio!H38","v":{"v":0,"d":"0.00"}},{"$f":"Gennaio!P35","v":0},{"$f":"Gennaio!Q35","v":0}]
[]
["FEBBRAIO",{"$f":"Febbraio!N35","v":0},{"$f":"Febbraio!O35","v":0},{"$f":"B8+C8","v":0},{"$f":"Febbraio!C36+Febbraio!H36","v":0},{"$f":"Febbraio!C38+Febbraio!H38","v":{"v":0,"d":"0.00"}},{"$f":"Febbraio!P35","v":0},{"$f":"Febbraio!Q35","v":0}]
[]
["MARZO",{"$f":"Marzo!N35","v":0},{"$f":"Marzo!O35","v":0},{"$f":"B10+C10","v":0},{"$f":"Marzo!C36+Marzo!H36","v":0},{"$f":"Marzo!C38+Marzo!H38","v":{"v":0,"d":"0.00"}},{"$f":"Marzo!P35","v":0},{"$f":"Marzo!Q35","v":0}]
[]
["APRILE",{"$f":"Aprile!N35","v":0},{"$f":"Aprile!O35","v":0},{"$f":"B12+C12","v":0},{"$f":"Aprile!C36+Aprile!H36","v":0},{"$f":"Aprile!C38+Aprile!H38","v":{"v":0,"d":"0.00"}},{"$f":"Aprile!P35","v":0},{"$f":"Aprile!Q35","v":0}]
[]
["MAGGIO",{"$f":"Maggio!N35","v":0},{"$f":"Maggio!O35","v":0},{"$f":"B14+C14","v":0},{"$f":"Maggio!C36+Maggio!H36","v":0},{"$f":"Maggio!C38+Maggio!H38","v":{"v":0,"d":"0.00"}},{"$f":"Maggio!P35","v":0},{"$f":"Maggio!Q35","v":0}]
[]
["GIUGNO",{"$f":"Giugno!N35","v":0},{"$f":"Giugno!O35","v":0},{"$f":"B16+C16","v":0},{"$f":"Giugno!C36+Giugno!H36","v":0},{"$f":"Giugno!C38+Giugno!H38","v":{"v":0,"d":"0.00"}},{"$f":"Giugno!P35","v":0},{"$f":"Giugno!Q35","v":0}]
[]
["LUGLIO",{"$f":"Luglio!N35","v":0},{"$f":"Luglio!O35","v":0},{"$f":"B18+C18","v":0},{"$f":"Luglio!C36+Luglio!H36","v":0},{"$f":"Luglio!C38+Luglio!H38","v":{"v":0,"d":"0.00"}},{"$f":"Luglio!P35","v":0},{"$f":"Luglio!Q35","v":0}]
[]
["AGOSTO",{"$f":"Agosto!N35","v":0},{"$f":"Agosto!O35","v":0},{"$f":"B20+C20","v":0},{"$f":"Agosto!C36+Agosto!H36","v":0},{"$f":"Agosto!C38+Agosto!H38","v":{"v":0,"d":"0.00"}},{"$f":"Agosto!P35","v":0},{"$f":"Agosto!Q35","v":0}]
[]
["SETTEMBRE",{"$f":"Settembre!N35","v":0},{"$f":"Settembre!O35","v":0},{"$f":"B22+C22","v":0},{"$f":"Settembre!C36+Settembre!H36","v":0},{"$f":"Settembre!C38+Settembre!H38","v":{"v":0,"d":"0.00"}},{"$f":"Settembre!P35","v":0},{"$f":"Settembre!Q35","v":0}]
[]
["OTTOBRE",{"$f":"Ottobre!N35","v":0},{"$f":"Ottobre!O35","v":0},{"$f":"B24+C24","v":0},{"$f":"Ottobre!C36+Ottobre!H36","v":0},{"$f":"Ottobre!C38+Ottobre!H38","v":{"v":0,"d":"0.00"}},{"$f":"Ottobre!P35","v":0},{"$f":"Ottobre!Q35","v":0}]
[]
["NOVEMBRE",{"$f":"Novembre!N35","v":0},{"$f":"Novembre!O35","v":0},{"$f":"B26+C26","v":0},{"$f":"Novembre!C36+Novembre!H36","v":0},{"$f":"Novembre!C38+Novembre!H38","v":{"v":0,"d":"0.00"}},{"$f":"Novembre!P35","v":0},{"$f":"Novembre!Q35","v":0}]
[]
["DICEMBRE",{"$f":"Dicembre!N35","v":0},{"$f":"Dicembre!O35","v":0},{"$f":"B28+C28","v":0},{"$f":"Dicembre!C36+Dicembre!H36","v":0},{"$f":"Dicembre!C38+Dicembre!H38","v":{"v":0,"d":"0.00"}},{"$f":"Dicembre!P35","v":0},{"$f":"Dicembre!Q35","v":0}]
[]
["T O T A L I",{"$f":"SUM(B6:B28)","v":0},{"$f":"SUM(C6:C28)","v":0},{"$f":"B30+C30","v":0},{"$f":"SUM(E6:E28)","v":0},"ORE",{"$f":"SUM(G6:G28)","v":0},{"$f":"SUM(H6:H28)","v":0}]
[{"$nulls":5},{"$f":"SUM(F6:F28)","v":{"v":0,"d":"0.00"}}]
[]
[{"$nulls":5},"GIORNI"]
["M E D I A",{"$f":"IF(B35=0,0,B30/B35)","v":0},{"$f":"IF(C35=0,0,C30/C35)","v":0},{"$f":"IF(D35=0,0,D30/D35)","v":0},{"$f":"IF(E35=0,0,E30/E35)","v":0},{"$f":"F31/24","v":{"v":0,"d":"0.00"}}]
[null,{"$f":"COUNTIF(B6:B28,\">0\")","v":0},{"$f":"COUNTIF(C6:C28,\">0\")","v":0},{"$f":"COUNTIF(D6:D28,\">0\")","v":0},{"$f":"COUNTIF(E6:E28,\">0\")","v":0}]

{"sheet":"Grafici","index":15,"n_rows":68,"n_cols":22,"rows_kept":68,"merged":[[16,0,16,6],[16,7,16,13],[16,14,16,20],[33,0,33,6],[33,7,33,13],[33,14,33,20],[41,21,41,27],[50,0,50,6],[50,7,50,13],[50,14,50,20],[67,0,67,6],[67,7,67,13],[67,14,67,20]]}
{"$rows_empty":16}
["RITORNO",{"$nulls":6},"RITORNO",{"$nulls":6},"RITORNO"]
{"$rows_empty":16}
["RITORNO",{"$nulls":6},"RITORNO",{"$nulls":6},"RITORNO"]
{"$rows_empty":7}
[{"$nulls":21},"RITORNO"]
{"$rows_empty":8}
["RITORNO",{"$nulls":6},"RITORNO",{"$nulls":6},"RITORNO"]
{"$rows_empty":16}
["RITORNO",{"$nulls":6},"RITORNO",{"$nulls":6},"RITORNO"]