{"text_format":"1","workbook":"xlsx","n_sheets":4,"sheets":["INSERIMENTO","ANALITICA","controllo","grafici"],"not_rendered":{"charts":6,"images":0,"macros":1,"external_links":0,"defined_names":0,"comments":0,"pivot_tables":0},"unopened":[],"bounds":{"document_bytes":16777216,"sheet_cells":100000,"rows_first":2000,"rows_last":500,"rows_between":2000,"halvings":0,"cell_chars":16384,"cell_head_chars":4096},"cells_cut":0,"cells_raw":0,"read":"whole","date_system":"1900"}

{"sheet":"INSERIMENTO","index":0,"n_rows":18,"n_cols":5,"rows_kept":18,"cut":false,"hidden":false,"merged":[[1,4,1,6]]}
[]
[null,null,null,null,"SCHEDA INSERIMENTO"]
[]
[null,null,null,null,"CENTRO DI COSTO"]
[]
[null,null,null,null,"N.RO RDA"]
[]
[null,null,null,null,"DATA"]
[]
[null,null,null,null,"MESE"]
[]
[null,null,null,null,"COORDINATORE"]
[]
[null,null,null,null,"OGGETTO"]
[]
[null,null,null,null,"COSTO"]
[]
[null,null,null,null,"LUOGO DI DESTINAZIONE"]

{"sheet":"ANALITICA","index":1,"n_rows":4,"n_cols":8,"rows_kept":4,"cut":false,"hidden":false,"merged":[[0,0,0,7]]}
["ANALITICA 2016"]
["CC","N.RO DI RDA","DATA","MESE","COORDINATORE","OGGETTO","COSTO","LUOGO DI DESTINAZIONE"]
[18,3,"2016-07-23","febbraio","ehohfope","jheohfjpjep",23,"nfoehfoi"]
[2,3,"2016-07-23","gennaio","ksjiejòp","enfipwj",34,"dwdw"]

{"sheet":"controllo","index":2,"n_rows":46,"n_cols":44,"rows_kept":46,"cut":false,"hidden":false,"merged":[]}
[null,"CC","MESE",null,"CC","MESE",null,"CC","MESE",null,null,"CC","MESE",null,"CC","MESE",null,"CC","MESE",null,null,null,"CC","MESE",null,"CC","MESE",null,"CC","MESE",null,null,"CC","MESE",null,"CC","MESE",null,"CC","MESE"]
[null,2,"GENNAIO","GENNAIO",2,"FEBBRAIO","FEBBRAIO",2,"MARZO","MARZO","Primo Trimestre",2,"APRILE","APRILE",2,"MAGGIO","MAGGIO",2,"GIUGNO","GIUGNO","Secondo Trimestre","Primo Semestre",2,"LUGLIO","LUGLIO",2,"AGOSTO","AGOSTO",2,"SETTEMBRE","SETTEMBRE","Terzo Trimestre",2,"OTTOBRE","OTTOBRE",2,"NOVEMBRE","NOVEMBRE",2,"DICEMBRE","DICEMBRE","Quarto Trimestre","Secondo Semestre","Anno 2016"]
["FACCHINAGGIO"]
["Consuntivo",null,null,{"$f":"DSUM(ANALITICA!$A$2:$H$19126,ANALITICA!$G$2,B1:C2)","v":34},null,null,{"$f":"DSUM(ANALITICA!$A$2:$H$19126,ANALITICA!$G$2,E1:F2)","v":0},null,null,{"$f":"DSUM(ANALITICA!$A$2:$H$19126,ANALITICA!$G$2,H1:I2)","v":0},{"$f":"D4+G4+J4","v":34},null,null,12,null,null,{"$f":"DSUM(ANALITICA!$A$2:$H$19126,ANALITICA!$G$2,O1:P2)","v":0},null,null,{"$f":"DSUM(ANALITICA!$A$2:$H$19126,ANALITICA!$G$2,R1:S2)","v":0},{"$f":"N4+Q4+T4","v":12},{"$f":"K4+U4","v":46},null,null,{"$f":"DSUM(ANALITICA!$A$2:$H$19126,ANALITICA!$G$2,W1:X2)","v":0},null,null,{"$f":"DSUM(ANALITICA!$A$2:$H$19126,ANALITICA!$G$2,Z1:AA2)","v":0},null,null,{"$f":"DSUM(ANALITICA!$A$2:$H$19126,ANALITICA!$G$2,AC1:AD2)","v":0},{"$f":"Y4+AB4+AE4","v":0},null,null,{"$f":"DSUM(ANALITICA!$A$2:$H$19126,ANALITICA!$G$2,AG1:AH2)","v":0},null,null,{"$f":"DSUM(ANALITICA!$A$2:$H$19126,ANALITICA!$G$2,AJ1:AK2)","v":0},null,null,{"$f":"DSUM(ANALITICA!$A$2:$H$19126,ANALITICA!$G$2,AM1:AN2)","v":0},{"$f":"AI4+AL4+AO4","v":0},{"$f":"AF4+AP4","v":0},{"$f":"V4+AQ4","v":46}]
["Budget",null,null,null,null,null,null,null,null,null,{"$f":"D5+G5+J5","v":0},null,null,null,null,null,null,null,null,null,{"$f":"N5+Q5+T5","v":0},{"$f":"K5+U5","v":0},null,null,null,null,null,null,null,null,null,{"$f":"Y5+AB5+AE5","v":0},null,null,null,null,null,null,null,null,null,{"$f":"AI5+AL5+AO5","v":0},{"$f":"AF5+AP5","v":0},{"$f":"V5+AQ5","v":0}]
["Scostamento",null,null,{"$f":"D4-D5","v":34},null,null,{"$f":"G4-G5","v":0},null,null,{"$f":"J4-J5","v":0},{"$f":"D6+G6+J6","v":34},null,null,{"$f":"N4-N5","v":12},null,null,{"$f":"Q4-Q5","v":0},null,null,{"$f":"T4-T5","v":0},{"$f":"N6+Q6+T6","v":12},{"$f":"K6+U6","v":46},null,null,{"$f":"Y4-Y5","v":0},null,null,{"$f":"AB4-AB5","v":0},null,null,{"$f":"AE4-AE5","v":0},{"$f":"Y6+AB6+AE6","v":0},null,null,{"$f":"AI4-AI5","v":0},null,null,{"$f":"AL4-AL5","v":0},null,null,{"$f":"AO4-AO5","v":0},{"$f":"AI6+AL6+AO6","v":0},{"$f":"AF6+AP6","v":0},{"$f":"V6+AQ6","v":46}]
[]
[]
[null,"CC","MESE",null,"CC","MESE",null,"CC","MESE",null,null,"CC","MESE",null,"CC","MESE",null,"CC","MESE",null,null,null,"CC","MESE",null,"CC","MESE",null,"CC","MESE",null,null,"CC","MESE",null,"CC","MESE",null,"CC","MESE"]
[null,4,"GENNAIO","GENNAIO",4,"FEBBRAIO","FEBBRAIO",4,"MARZO","MARZO","Primo Trimestre",4,"APRILE","APRILE",4,"MAGGIO","MAGGIO",4,"GIUGNO","GIUGNO","Secondo Trimestre","Primo Semestre",4,"LUGLIO","LUGLIO",4,"AGOSTO","AGOSTO",4,"SETTEMBRE","SETTEMBRE","Terzo Trimestre",4,"OTTOBRE","OTTOBRE",4,"NOVEMBRE","NOVEMBRE",4,"DICEMBRE","DICEMBRE","Quarto Trimestre","Secondo Semestre","Anno 2016"]
["STRADE"]
["Consuntivo",null,null,{"$f":"DSUM(ANALITICA!$A$2:$H$19126,ANALITICA!$G$2,B9:C10)","v":0},null,null,{"$f":"DSUM(ANALITICA!$A$2:$H$19126,ANALITICA!$G$2,E9:F10)","v":0},null,null,{"$f":"DSUM(ANALITICA!$A$2:$H$19126,ANALITICA!$G$2,H9:I10)","v":0},{"$f":"D12+G12+J12","v":0},null,null,{"$f":"DSUM(ANALITICA!$A$2:$H$19126,ANALITICA!$G$2,L9:M10)","v":0},null,null,{"$f":"DSUM(ANALITICA!$A$2:$H$19126,ANALITICA!$G$2,O9:P10)","v":0},null,null,{"$f":"DSUM(ANALITICA!$A$2:$H$19126,ANALITICA!$G$2,R9:S10)","v":0},{"$f":"N12+Q12+T12","v":0},{"$f":"K12+U12","v":0},null,null,{"$f":"DSUM(ANALITICA!$A$2:$H$19126,ANALITICA!$G$2,W9:X10)","v":0},null,null,{"$f":"DSUM(ANALITICA!$A$2:$H$19126,ANALITICA!$G$2,Z9:AA10)","v":0},null,null,{"$f":"DSUM(ANALITICA!$A$2:$H$19126,ANALITICA!$G$2,AC9:AD10)","v":0},{"$f":"Y12+AB12+AE12","v":0},null,null,{"$f":"DSUM(ANALITICA!$A$2:$H$19126,ANALITICA!$G$2,AG9:AH10)","v":0},null,null,{"$f":"DSUM(ANALITICA!$A$2:$H$19126,ANALITICA!$G$2,AJ9:AK10)","v":0},null,null,{"$f":"DSUM(ANALITICA!$A$2:$H$19126,ANALITICA!$G$2,AM9:AN10)","v":0},{"$f":"AI12+AL12+AO12","v":0},{"$f":"AF12+AP12","v":0},{"$f":"V12+AQ12","v":0}]
["Budget",null,null,null,null,null,null,null,null,null,{"$f":"D13+G13+J13","v":0},null,null,null,null,null,null,null,null,null,{"$f":"N13+Q13+T13","v":0},{"$f":"K13+U13","v":0},null,null,null,null,null,null,null,null,null,{"$f":"Y13+AB13+AE13","v":0},null,null,null,null,null,null,null,null,null,{"$f":"AI13+AL13+AO13","v":0},{"$f":"AF13+AP13","v":0},{"$f":"V13+AQ13","v":0}]
["Scostamento",null,null,{"$f":"D12-D13","v":0},null,null,{"$f":"G12-G13","v":0},null,null,{"$f":"J12-J13","v":0},{"$f":"D14+G14+J14","v":0},null,null,{"$f":"N12-N13","v":0},null,null,{"$f":"Q12-Q13","v":0},null,null,{"$f":"T12-T13","v":0},{"$f":"N14+Q14+T14","v":0},{"$f":"K14+U14","v":0},null,null,{"$f":"Y12-Y13","v":0},null,null,{"$f":"AB12-AB13","v":0},null,null,{"$f":"AE12-AE13","v":0},{"$f":"Y14+AB14+AE14","v":0},null,null,{"$f":"AI12-AI13","v":0},null,null,{"$f":"AL12-AL13","v":0},null,null,{"$f":"AO12-AO13","v":0},{"$f":"AI14+AL14+AO14","v":0},{"$f":"AF14+AP14","v":0},{"$f":"V14+AQ14","v":0}]
[]
[]
[null,"CC","MESE",null,"CC","MESE",null,"CC","MESE",null,null,"CC","MESE",null,"CC","MESE",null,"CC","MESE",null,null,null,"CC","MESE",null,"CC","MESE",null,"CC","MESE",null,null,"CC","MESE",null,"CC","MESE",null,"CC","MESE"]
[null,18,"GENNAIO","GENNAIO",18,"FEBBRAIO","FEBBRAIO",18,"MARZO","MARZO","Primo Trimestre",18,"APRILE","APRILE",18,"MAGGIO","MAGGIO",18,"GIUGNO","GIUGNO","Secondo Trimestre","Primo Semestre",18,"LUGLIO","LUGLIO",18,"AGOSTO","AGOSTO",18,"SETTEMBRE","SETTEMBRE","Terzo Trimestre",18,"OTTOBRE","OTTOBRE",18,"NOVEMBRE","NOVEMBRE",18,"DICEMBRE","DICEMBRE","Quarto Trimestre","Secondo Semestre","Anno 2016"]
["NOVOLI"]
["Consuntivo",null,null,{"$f":"DSUM(ANALITICA!$A$2:$H$19126,ANALITICA!$G$2,B17:C18)","v":0},null,null,{"$f":"DSUM(ANALITICA!$A$2:$H$19126,ANALITICA!$G$2,E17:F18)","v":23},null,null,{"$f":"DSUM(ANALITICA!$A$2:$H$19126,ANALITICA!$G$2,H17:I18)","v":0},{"$f":"D20+G20+J20","v":23},null,null,{"$f":"DSUM(ANALITICA!$A$2:$H$19126,ANALITICA!$G$2,L17:M18)","v":0},null,null,{"$f":"DSUM(ANALITICA!$A$2:$H$19126,ANALITICA!$G$2,O17:P18)","v":0},null,null,{"$f":"DSUM(ANALITICA!$A$2:$H$19126,ANALITICA!$G$2,R17:S18)","v":0},{"$f":"N20+Q20+T20","v":0},{"$f":"K20+U20","v":23},null,null,{"$f":"DSUM(ANALITICA!$A$2:$H$19126,ANALITICA!$G$2,W17:X18)","v":0},null,null,{"$f":"DSUM(ANALITICA!$A$2:$H$19126,ANALITICA!$G$2,Z17:AA18)","v":0},null,null,{"$f":"DSUM(ANALITICA!$A$2:$H$19126,ANALITICA!$G$2,AC17:AD18)","v":0},{"$f":"Y20+AB20+AE20","v":0},null,null,{"$f":"DSUM(ANALITICA!$A$2:$H$19126,ANALITICA!$G$2,AG17:AH18)","v":0},null,null,{"$f":"DSUM(ANALITICA!$A$2:$H$19126,ANALITICA!$G$2,AJ17:AK18)","v":0},null,null,{"$f":"DSUM(ANALITICA!$A$2:$H$19126,ANALITICA!$G$2,AM17:AN18)","v":0},{"$f":"AI20+AL20+AO20","v":0},{"$f":"AF20+AP20","v":0},{"$f":"V20+AQ20","v":23}]
["Budget",null,null,null,null,null,null,null,null,null,{"$f":"D21+G21+J21","v":0},null,null,null,null,null,null,null,null,null,{"$f":"N21+Q21+T21","v":0},{"$f":"K21+U21","v":0},null,null,null,null,null,null,null,null,null,{"$f":"Y21+AB21+AE21","v":0},null,null,null,null,null,null,null,null,null,{"$f":"AI21+AL21+AO21","v":0},{"$f":"AF21+AP21","v":0},{"$f":"V21+AQ21","v":0}]
["Scostamento",null,null,{"$f":"D20-D21","v":0},null,null,{"$f":"G20-G21","v":23},null,null,{"$f":"J20-J21","v":0},{"$f":"D22+G22+J22","v":23},null,null,{"$f":"N20-N21","v":0},null,null,{"$f":"Q20-Q21","v":0},null,null,{"$f":"T20-T21","v":0},{"$f":"N22+Q22+T22","v":0},{"$f":"K22+U22","v":23},null,null,{"$f":"Y20-Y21","v":0},null,null,{"$f":"AB20-AB21","v":0},null,null,{"$f":"AE20-AE21","v":0},{"$f":"Y22+AB22+AE22","v":0},null,null,{"$f":"AI20-AI21","v":0},null,null,{"$f":"AL20-AL21","v":0},null,null,{"$f":"AO20-AO21","v":0},{"$f":"AI22+AL22+AO22","v":0},{"$f":"AF22+AP22","v":0},{"$f":"V22+AQ22","v":23}]
[]
[]
[null,"CC","MESE",null,"CC","MESE",null,"CC","MESE",null,null,"CC","MESE",null,"CC","MESE",null,"CC","MESE",null,null,null,"CC","MESE",null,"CC","MESE",null,"CC","MESE",null,null,"CC","MESE",null,"CC","MESE",null,"CC","MESE"]
[null,31,"GENNAIO","GENNAIO",31,"FEBBRAIO","FEBBRAIO",31,"MARZO","MARZO","Primo Trimestre",31,"APRILE","APRILE",31,"MAGGIO","MAGGIO",31,"GIUGNO","GIUGNO","Secondo Trimestre","Primo Semestre",31,"LUGLIO","LUGLIO",31,"AGOSTO","AGOSTO",31,"SETTEMBRE","SETTEMBRE","Terzo Trimestre",31,"OTTOBRE","OTTOBRE",31,"NOVEMBRE","NOVEMBRE",31,"DICEMBRE","DICEMBRE","Quarto Trimestre","Secondo Semestre","Anno 2016"]
["CIMITERO"]
["Consuntivo",null,null,{"$f":"DSUM(ANALITICA!$A$2:$H$19126,ANALITICA!$G$2,B25:C26)","v":0},null,null,{"$f":"DSUM(ANALITICA!$A$2:$H$19126,ANALITICA!$G$2,E25:F26)","v":0},null,null,{"$f":"DSUM(ANALITICA!$A$2:$H$19126,ANALITICA!$G$2,H25:I26)","v":0},{"$f":"D28+G28+J28","v":0},null,null,{"$f":"DSUM(ANALITICA!$A$2:$H$19126,ANALITICA!$G$2,L25:M26)","v":0},null,null,{"$f":"DSUM(ANALITICA!$A$2:$H$19126,ANALITICA!$G$2,O25:P26)","v":0},null,null,{"$f":"DSUM(ANALITICA!$A$2:$H$19126,ANALITICA!$G$2,R25:S26)","v":0},{"$f":"N28+Q28+T28","v":0},{"$f":"K28+U28","v":0},null,null,{"$f":"DSUM(ANALITICA!$A$2:$H$19126,ANALITICA!$G$2,W25:X26)","v":0},null,null,{"$f":"DSUM(ANALITICA!$A$2:$H$19126,ANALITICA!$G$2,Z25:AA26)","v":0},null,null,{"$f":"DSUM(ANALITICA!$A$2:$H$19126,ANALITICA!$G$2,AC25:AD26)","v":0},{"$f":"Y28+AB28+AE28","v":0},null,null,{"$f":"DSUM(ANALITICA!$A$2:$H$19126,ANALITICA!$G$2,AG25:AH26)","v":0},null,null,{"$f":"DSUM(ANALITICA!$A$2:$H$19126,ANALITICA!$G$2,AJ25:AK26)","v":0},null,null,{"$f":"DSUM(ANALITICA!$A$2:$H$19126,ANALITICA!$G$2,AM25:AN26)","v":0},{"$f":"AI28+AL28+AO28","v":0},{"$f":"AF28+AP28","v":0},{"$f":"V28+AQ28","v":0}]
["Budget",null,null,null,null,null,null,null,null,null,{"$f":"D29+G29+J29","v":0},null,null,null,null,null,null,null,null,null,{"$f":"N29+Q29+T29","v":0},{"$f":"K29+U29","v":0},null,null,null,null,null,null,null,null,null,{"$f":"Y29+AB29+AE29","v":0},null,null,null,null,null,null,null,null,null,{"$f":"AI29+AL29+AO29","v":0},{"$f":"AF29+AP29","v":0},{"$f":"V29+AQ29","v":0}]
["Scostamento",null,null,{"$f":"D28-D29","v":0},null,null,{"$f":"G28-G29","v":0},null,null,{"$f":"J28-J29","v":0},{"$f":"D30+G30+J30","v":0},null,null,{"$f":"N28-N29","v":0},null,null,{"$f":"Q28-Q29","v":0},null,null,{"$f":"T28-T29","v":0},{"$f":"N30+Q30+T30","v":0},{"$f":"K30+U30","v":0},null,null,{"$f":"Y28-Y29","v":0},null,null,{"$f":"AB28-AB29","v":0},null,null,{"$f":"AE28-AE29","v":0},{"$f":"Y30+AB30+AE30","v":0},null,null,{"$f":"AI28-AI29","v":0},null,null,{"$f":"AL28-AL29","v":0},null,null,{"$f":"AO28-AO29","v":0},{"$f":"AI30+AL30+AO30","v":0},{"$f":"AF30+AP30","v":0},{"$f":"V30+AQ30","v":0}]
[]
[]
[null,"CC","MESE",null,"CC","MESE",null,"CC","MESE",null,null,"CC","MESE",null,"CC","MESE",null,"CC","MESE",null,null,null,"CC","MESE",null,"CC","MESE",null,"CC","MESE",null,null,"CC","MESE",null,"CC","MESE",null,"CC","MESE"]
[null,8,"GENNAIO","GENNAIO",8,"FEBBRAIO","FEBBRAIO",8,"MARZO","MARZO","Primo Trimestre",8,"APRILE","APRILE",8,"MAGGIO","MAGGIO",8,"GIUGNO","GIUGNO","Secondo Trimestre","Primo Semestre",8,"LUGLIO","LUGLIO",8,"AGOSTO","AGOSTO",8,"SETTEMBRE","SETTEMBRE","Terzo Trimestre",8,"OTTOBRE","OTTOBRE",8,"NOVEMBRE","NOVEMBRE",8,"DICEMBRE","DICEMBRE","Quarto Trimestre","Secondo Semestre","Anno 2016"]
["SCUOLE"]
["Consuntivo",null,null,{"$f":"DSUM(ANALITICA!$A$2:$H$19126,ANALITICA!$G$2,B33:C34)","v":0},null,null,{"$f":"DSUM(ANALITICA!$A$2:$H$19126,ANALITICA!$G$2,E33:F34)","v":0},null,null,{"$f":"DSUM(ANALITICA!$A$2:$H$19126,ANALITICA!$G$2,H33:I34)","v":0},{"$f":"D36+G36+J36","v":0},null,null,{"$f":"DSUM(ANALITICA!$A$2:$H$19126,ANALITICA!$G$2,L33:M34)","v":0},null,null,{"$f":"DSUM(ANALITICA!$A$2:$H$19126,ANALITICA!$G$2,O33:P34)","v":0},null,null,{"$f":"DSUM(ANALITICA!$A$2:$H$19126,ANALITICA!$G$2,R33:S34)","v":0},{"$f":"N36+Q36+T36","v":0},{"$f":"K36+U36","v":0},null,null,{"$f":"DSUM(ANALITICA!$A$2:$H$19126,ANALITICA!$G$2,W33:X34)","v":0},null,null,{"$f":"DSUM(ANALITICA!$A$2:$H$19126,ANALITICA!$G$2,Z33:AA34)","v":0},null,null,{"$f":"DSUM(ANALITICA!$A$2:$H$19126,ANALITICA!$G$2,AC33:AD34)","v":0},{"$f":"Y36+AB36+AE36","v":0},null,null,{"$f":"DSUM(ANALITICA!$A$2:$H$19126,ANALITICA!$G$2,AG33:AH34)","v":0},null,null,{"$f":"DSUM(ANALITICA!$A$2:$H$19126,ANALITICA!$G$2,AJ33:AK34)","v":0},null,null,{"$f":"DSUM(ANALITICA!$A$2:$H$19126,ANALITICA!$G$2,AM33:AN34)","v":0},{"$f":"AI36+AL36+AO36","v":0},{"$f":"AF36+AP36","v":0},{"$f":"V36+AQ36","v":0}]
["Budget",null,null,null,null,null,null,null,null,null,{"$f":"D37+G37+J37","v":0},null,null,null,null,null,null,null,null,null,{"$f":"N37+Q37+T37","v":0},{"$f":"K37+U37","v":0},null,null,null,null,null,null,null,null,null,{"$f":"Y37+AB37+AE37","v":0},null,null,null,null,null,null,null,null,null,{"$f":"AI37+AL37+AO37","v":0},{"$f":"AF37+AP37","v":0},{"$f":"V37+AQ37","v":0}]
["Scostamento",null,null,{"$f":"D36-D37","v":0},null,null,{"$f":"G36-G37","v":0},null,null,{"$f":"J36-J37","v":0},{"$f":"D38+G38+J38","v":0},null,null,{"$f":"N36-N37","v":0},null,null,{"$f":"Q36-Q37","v":0},null,null,{"$f":"T36-T37","v":0},{"$f":"N38+Q38+T38","v":0},{"$f":"K38+U38","v":0},null,null,{"$f":"Y36-Y37","v":0},null,null,{"$f":"AB36-AB37","v":0},null,null,{"$f":"AE36-AE37","v":0},{"$f":"Y38+AB38+AE38","v":0},null,null,{"$f":"AI36-AI37","v":0},null,null,{"$f":"AL36-AL37","v":0},null,null,{"$f":"AO36-AO37","v":0},{"$f":"AI38+AL38+AO38","v":0},{"$f":"AF38+AP38","v":0},{"$f":"V38+AQ38","v":0}]
[]
[]
[null,"CC","MESE",null,"CC","MESE",null,"CC","MESE",null,null,"CC","MESE",null,"CC","MESE",null,"CC","MESE",null,null,null,"CC","MESE",null,"CC","MESE",null,"CC","MESE",null,null,"CC","MESE",null,"CC","MESE",null,"CC","MESE"]
[null,"EXTRA","GENNAIO","GENNAIO","EXTRA","FEBBRAIO","FEBBRAIO","EXTRA","MARZO","MARZO","Primo Trimestre","EXTRA","APRILE","APRILE","EXTRA","MAGGIO","MAGGIO","EXTRA","GIUGNO","GIUGNO","Secondo Trimestre","Primo Semestre","EXTRA","LUGLIO","LUGLIO","EXTRA","AGOSTO","AGOSTO","EXTRA","SETTEMBRE","SETTEMBRE","Terzo Trimestre","EXTRA","OTTOBRE","OTTOBRE","EXTRA","NOVEMBRE","NOVEMBRE","EXTRA","DICEMBRE","DICEMBRE","Quarto Trimestre","Secondo Semestre","Anno 2016"]
["extra"]
["Consuntivo",null,null,{"$f":"DSUM(ANALITICA!$A$2:$H$19126,ANALITICA!$G$2,B41:C42)","v":0},null,null,{"$f":"DSUM(ANALITICA!$A$2:$H$19126,ANALITICA!$G$2,E41:F42)","v":0},null,null,{"$f":"DSUM(ANALITICA!$A$2:$H$19126,ANALITICA!$G$2,H41:I42)","v":0},{"$f":"D44+G44+J44","v":0},null,null,{"$f":"DSUM(ANALITICA!$A$2:$H$19126,ANALITICA!$G$2,L41:M42)","v":0},null,null,{"$f":"DSUM(ANALITICA!$A$2:$H$19126,ANALITICA!$G$2,O41:P42)","v":0},null,null,{"$f":"DSUM(ANALITICA!$A$2:$H$19126,ANALITICA!$G$2,R41:S42)","v":0},{"$f":"N44+Q44+T44","v":0},{"$f":"K44+U44","v":0},null,null,{"$f":"DSUM(ANALITICA!$A$2:$H$19126,ANALITICA!$G$2,W41:X42)","v":0},null,null,{"$f":"DSUM(ANALITICA!$A$2:$H$19126,ANALITICA!$G$2,Z41:AA42)","v":0},null,null,{"$f":"DSUM(ANALITICA!$A$2:$H$19126,ANALITICA!$G$2,AC41:AD42)","v":0},{"$f":"Y44+AB44+AE44","v":0},null,null,{"$f":"DSUM(ANALITICA!$A$2:$H$19126,ANALITICA!$G$2,AG41:AH42)","v":0},null,null,{"$f":"DSUM(ANALITICA!$A$2:$H$19126,ANALITICA!$G$2,AJ41:AK42)","v":0},null,null,{"$f":"DSUM(ANALITICA!$A$2:$H$19126,ANALITICA!$G$2,AM41:AN42)","v":0},{"$f":"AI44+AL44+AO44","v":0},{"$f":"AF44+AP44","v":0},{"$f":"V44+AQ44","v":0}]
["Budget",null,null,null,null,null,null,null,null,null,{"$f":"D45+G45+J45","v":0},null,null,null,null,null,null,null,null,null,{"$f":"N45+Q45+T45","v":0},{"$f":"K45+U45","v":0},null,null,null,null,null,null,null,null,null,{"$f":"Y45+AB45+AE45","v":0},null,null,null,null,null,null,null,null,null,{"$f":"AI45+AL45+AO45","v":0},{"$f":"AF45+AP45","v":0},{"$f":"V45+AQ45","v":0}]
["Scostamento",null,null,{"$f":"D44-D45","v":0},null,null,{"$f":"G44-G45","v":0},null,null,{"$f":"J44-J45","v":0},{"$f":"D46+G46+J46","v":0},null,null,{"$f":"N44-N45","v":0},null,null,{"$f":"Q44-Q45","v":0},null,null,{"$f":"T44-T45","v":0},{"$f":"N46+Q46+T46","v":0},{"$f":"K46+U46","v":0},null,null,{"$f":"Y44-Y45","v":0},null,null,{"$f":"AB44-AB45","v":0},null,null,{"$f":"AE44-AE45","v":0},{"$f":"Y46+AB46+AE46","v":0},null,null,{"$f":"AI44-AI45","v":0},null,null,{"$f":"AL44-AL45","v":0},null,null,{"$f":"AO44-AO45","v":0},{"$f":"AI46+AL46+AO46","v":0},{"$f":"AF46+AP46","v":0},{"$f":"V46+AQ46","v":0}]

{"sheet":"grafici","index":3,"n_rows":37,"n_cols":10,"rows_kept":37,"cut":false,"hidden":false,"merged":[]}
["FACCHINAGGIO",null,null,null,null,null,null,null,null,"NOVOLI"]
[]
[]
[]
[]
[]
[]
[]
[]
[]
[]
[]
[]
[]
[]
[]
[]
[]
["STRADE",null,null,null,null,null,null,null,null,"CIMITERO"]
[]
[]
[]
[]
[]
[]
[]
[]
[]
[]
[]
[]
[]
[]
[]
[]
[]
["SCUOLE",null,null,null,null,null,null,null,null,"EXTRA"]